Workbook

Sheet 表紙
B2: 00 | C2: 北海道新聞折込広告申込書（標準セット） | H2: ver. | I2: 398 | J2: 46327 | Q2: ※このシートの枠内に入力すると各申込書シートに一括反映されます。
K3: コード | L3: 代理店名 | P3: 担当者名
C4: 折込日（年） | D4: 2026 | E4: =IF(ISERROR(E5),"日付は正しく入れてください！","")
C5: 折込日（月/日） | E5: =IF(OR(D4="",D5=""),"",DATE(D4,MONTH(D5),DAY(D5)))
C6: 広告主名／件名
C7: 広告主業種
C8: サイズ | H8: （B4・B4厚・B3・B3厚・B2・B1） | K8: ◎「市内」「地方」窓口納品枚数内訳
C9: 印刷会社名 | K9: 市内窓口納品 | L9: 札幌・石狩（一部）・江別・北広島・千歳・恵庭・小樽市 | Q9: =SUM(J14,R9,L16) -> 0 | R9: =SUM('2.千歳・苫小牧・室蘭・日高地区'!G11:G18) -> 0
B10: 納品・広告内容に関わる 連絡事項 | K10: 地方窓口納品 | L10: その他地区 | Q10: =SUM(J25-Q9) -> 0
C13: <集計> | E13: 申込書改定日 | I13: （定数） | J13: 申込枚数 | K13: A地区 | L13: B・C・D地区 | M13: E地区 | N13: 離島枚数 | O13: 離島件数 | Q13: 備考
B14: =IF(J14="","",IF(J14<>0,"●","")) | C14: 1.札幌・江別・北広島・石狩市 | E14: =IFERROR('1.札幌・江別・北広島・石狩市'!J2,"") -> 46174 | H14: =IFERROR('1.札幌・江別・北広島・石狩市'!AH45,"") -> 284350 | J14: =IFERROR('1.札幌・江別・北広島・石狩市'!G7,"") -> 0 | K14: =IFERROR('1.札幌・江別・北広島・石狩市'!G7,"") -> 0 | L14: - | M14: - | N14: - | O14: - | Q14: A地区
B15: =IF(J15="","",IF(J15<>0,"●","")) | C15: 2.千歳・苫小牧・室蘭・日高地区 | E15: =IFERROR('2.千歳・苫小牧・室蘭・日高地区'!J2,"") -> 46296 | H15: =IFERROR('2.千歳・苫小牧・室蘭・日高地区'!AH45,"") -> 73255 | J15: =IFERROR('2.千歳・苫小牧・室蘭・日高地区'!G7,"") -> 0 | K15: - | L15: =IFERROR('2.千歳・苫小牧・室蘭・日高地区'!L7,"") -> 0 | M15: =IFERROR('2.千歳・苫小牧・室蘭・日高地区'!O7,"") -> 0 | N15: - | O15: - | Q15: B・E地区
B16: =IF(J16="","",IF(J16<>0,"●","")) | C16: 3.小樽・岩内・倶知安地区 | E16: =IFERROR('3.小樽・岩内・倶知安地区'!J2,"") -> 46174 | H16: =IFERROR('3.小樽・岩内・倶知安地区'!AH45,"") -> 34735 | J16: =IFERROR('3.小樽・岩内・倶知安地区'!G7,"") -> 0 | K16: - | L16: =IFERROR('3.小樽・岩内・倶知安地区'!L7,"") -> 0 | M16: =IFERROR('3.小樽・岩内・倶知安地区'!O7,"") -> 0 | N16: - | O16: - | Q16: B・E地区
B17: =IF(J17="","",IF(J17<>0,"●","")) | C17: 4.長万部・八雲・桧山地区 | E17: =IFERROR('4.長万部・八雲・桧山地区'!J2,"") -> 46266 | H17: =IFERROR('4.長万部・八雲・桧山地区'!AH45,"") -> 10590 | J17: =IFERROR('4.長万部・八雲・桧山地区'!G7,"") -> 0 | K17: - | L17: - | M17: =IFERROR('4.長万部・八雲・桧山地区'!O7,"") -> 0 | N17: =IFERROR('4.長万部・八雲・桧山地区'!R7,"") -> 0 | O17: =IFERROR('4.長万部・八雲・桧山地区'!V7,"") -> 0 | Q17: E地区、離島あり
B18: =IF(J18="","",IF(J18<>0,"●","")) | C18: 5.函館・森・松前地区 | E18: =IFERROR('5.函館・森・松前地区'!J2,"") -> 46174 | H18: =IFERROR('5.函館・森・松前地区'!AH45,"") -> 59610 | J18: =IFERROR('5.函館・森・松前地区'!G7,"") -> 0 | K18: - | L18: =IFERROR('5.函館・森・松前地区'!L7,"") -> 0 | M18: =IFERROR('5.函館・森・松前地区'!O7,"") -> 0 | N18: - | O18: - | Q18: C・E地区
B19: =IF(J19="","",IF(J19<>0,"●","")) | C19: 6.空知・深川・夕張・当別地区 | E19: =IFERROR('6.空知・深川・夕張・当別地区'!J2,"") -> 46235 | H19: =IFERROR('6.空知・深川・夕張・当別地区'!AH45,"") -> 56430 | J19: =IFERROR('6.空知・深川・夕張・当別地区'!G7,"") -> 0 | K19: - | L19: - | M19: =IFERROR('6.空知・深川・夕張・当別地区'!O7,"") -> 0 | N19: - | O19: - | Q19: E地区
B20: =IF(J20="","",IF(J20<>0,"●","")) | C20: 7.旭川・富良野・名寄・士別地区 | E20: =IFERROR('7.旭川・富良野・名寄・士別地区'!J2,"") -> 46174 | H20: =IFERROR('7.旭川・富良野・名寄・士別地区'!AH45,"") -> 87315 | J20: =IFERROR('7.旭川・富良野・名寄・士別地区'!G7,"") -> 0 | K20: - | L20: =IFERROR('7.旭川・富良野・名寄・士別地区'!L7,"") -> 0 | M20: =IFERROR('7.旭川・富良野・名寄・士別地区'!O7,"") -> 0 | N20: - | O20: - | Q20: D・E地区
B21: =IF(J21="","",IF(J21<>0,"●","")) | C21: 8.留萌・稚内・宗谷地区 | E21: =IFERROR('8.留萌・稚内・宗谷地区'!J2,"") -> 46327 | H21: =IFERROR('8.留萌・稚内・宗谷地区'!AH45,"") -> 16285 | J21: =IFERROR('8.留萌・稚内・宗谷地区'!G7,"") -> 0 | K21: - | L21: - | M21: =IFERROR('8.留萌・稚内・宗谷地区'!O7,"") -> 0 | N21: =IFERROR('8.留萌・稚内・宗谷地区'!R7,"") -> 0 | O21: =IFERROR('8.留萌・稚内・宗谷地区'!V7,"") -> 0 | Q21: E地区、離島あり
B22: =IF(J22="","",IF(J22<>0,"●","")) | C22: 9.北見・網走・紋別地区 | E22: =IFERROR('9.北見・網走・紋別地区'!J2,"") -> 46174 | H22: =IFERROR('9.北見・網走・紋別地区'!AH45,"") -> 42900 | J22: =IFERROR('9.北見・網走・紋別地区'!G7,"") -> 0 | K22: - | L22: - | M22: =IFERROR('9.北見・網走・紋別地区'!O7,"") -> 0 | N22: - | O22: - | Q22: E地区
B23: =IF(J23="","",IF(J23<>0,"●","")) | C23: 10.釧路・根室地区 | E23: =IFERROR('10.釧路・根室地区'!J2,"") -> 46174 | H23: =IFERROR('10.釧路・根室地区'!AH45,"") -> 52625 | J23: =IFERROR('10.釧路・根室地区'!G7,"") -> 0 | K23: - | L23: =IFERROR('10.釧路・根室地区'!L7,"") -> 0 | M23: =IFERROR('10.釧路・根室地区'!O7,"") -> 0 | N23: - | O23: - | Q23: B・E地区
B24: =IF(J24="","",IF(J24<>0,"●","")) | C24: 11.帯広・十勝地区 | E24: =IFERROR('11.帯広・十勝地区'!J2,"") -> 46174 | H24: =IFERROR('11.帯広・十勝地区'!AH45,"") -> 24560 | J24: =IFERROR('11.帯広・十勝地区'!G7,"") -> 0 | K24: - | L24: =IFERROR('11.帯広・十勝地区'!L7,"") -> 0 | M24: =IFERROR('11.帯広・十勝地区'!O7,"") -> 0 | N24: - | O24: - | Q24: B・E地区
F25: 計 | G25: =SUM(H14:H24) -> 742655 | J25: =SUM(J14:J24) -> 0 | K25: =SUM(K14:K24) -> 0 | L25: =SUM(L14:L24) -> 0 | M25: =SUM(M14:M24) -> 0 | N25: =SUM(N14:N24) -> 0 | O25: =SUM(O14:O24) -> 0

Sheet 変更履歴
A1: 【 販売所統廃合等に伴う変更履歴一覧 】 | D1: =IF(COUNTIF(C:C,"<"&DATE(YEAR($I$1)-1,MONTH($I$1)-0,1))>0,"要メンテ：12ヶ月を経過している行があります","") | I1: =表紙!J2 -> 46327 | K1: ※履歴は変更適用日より12ヶ月間です。
A2: 基本情報 | F2: 変更前 | I2: 変更後 （※変更箇所のみ記載）
A3: シート 番号 | B3: シート名 | C3: 変更 適用日 | D3: 変更 事由 | E3: 市区町村 | F3: 旧 コード | G3: 旧 店名 | I3: 新 コード | J3: 新 店名 | K3: 備考
A4: 1 | B4: 札幌・江別・北広島・石狩市 | D4: 日経例外 | E4: 札幌市 | F4: 1010 | G4: 中央東 | K4: 日経910部（2026年6月1日～）
A5: 1 | B5: 札幌・江別・北広島・石狩市 | D5: 日経例外 | E5: 札幌市 | F5: 1020 | G5: 桑園中央北 | K5: 日経1,230部（2026年6月1日～）
A6: 1 | B6: 札幌・江別・北広島・石狩市 | D6: 日経例外 | E6: 札幌市 | F6: 1040 | G6: 中央南 | K6: 日経570部（2026年6月1日～）
A7: 1 | B7: 札幌・江別・北広島・石狩市 | D7: 日経例外 | E7: 札幌市 | F7: 1080 | G7: 南円山 | K7: 日経540部（2026年6月1日～）
A8: 1 | B8: 札幌・江別・北広島・石狩市 | D8: 日経例外 | E8: 札幌市 | F8: 6070 | G8: 札幌鉄北 | K8: 日経650部（2026年6月1日～）
A9: 2 | B9: 千歳・苫小牧・室蘭・日高地区 | C9: 46204 | D9: 廃止 | E9: 登別市 | F9: 41100 | G9: 鷲別 | K9: 廃止→高砂(41080)、幌別(41110)へ分割統合
A10: 2 | B10: 千歳・苫小牧・室蘭・日高地区 | C10: 46296 | D10: 廃止 | E10: 新ひだか町 | F10: 50415 | G10: 東静内 | K10: 廃止→静内(50390)へ統合
A11: 3 | B11: 小樽・岩内・倶知安地区 | C11: 45992 | D11: 新規 | E11: 小樽市 | I11: 52025 | J11: 望洋台 | K11: 朝里・新光(52025)より分割新規
A12: 3 | B12: 小樽・岩内・倶知安地区 | C12: 46174 | D12: 廃止 | E12: 小樽市 | F12: 52030 | G12: 桜 | K12: 廃止→南小樽(52040)へ統合
A13: 4 | B13: 長万部・八雲・桧山地区 | C13: 45992 | D13: 廃止 | E13: 江差町 | F13: 17510 | G13: 水堀 | H13: → | K13: 廃止→乙部(17550)へ統合
A14: 5 | B14: 函館・森・松前地区 | C14: 46143 | D14: 廃止 | E14: 北斗市 | F14: 43470 | G14: 東前 | K14: 廃止→大野(43450)へ統合
A15: 6 | B15: 空知・深川・夕張・当別地区 | C15: 45962 | D15: 名称変更 | E15: 北竜町 | F15: 16470 | G15: 和 | J15: 北竜 | K15: 名称変更→和から北竜へ
A16: 6 | B16: 空知・深川・夕張・当別地区 | C16: 46082 | D16: 廃止 | E16: 夕張市 | F16: 14230 | G16: 紅葉山 | K16: 廃止→夕張(14070)へ統合
A17: 6 | B17: 空知・深川・夕張・当別地区 | C17: 46174 | D17: 廃止 | E17: 滝川市 | F17: 57150 | G17: 毎日滝川中央 | K17: 廃止→滝川中央(16180)・滝川北(16190)へ分割統合
A18: 6 | B18: 空知・深川・夕張・当別地区 | C18: 46204 | D18: 廃止 | E18: 月形町 | F18: 16350 | G18: 札比内 | K18: 廃止→月形(16360)へ統合
A19: 7 | B19: 旭川・富良野・名寄・士別地区 | H19: →
A20: 8 | B20: 留萌・稚内・宗谷地区 | C20: 46113 | D20: 名称変更 | E20: 礼文町 | F20: 30310 | G20: 香深東 | H20: → | J20: 香深 | K20: 名称変更→香深東から香深へ
A21: 8 | B21: 留萌・稚内・宗谷地区 | C21: 46113 | D21: 廃止 | E21: 礼文町 | F21: 30320 | G21: 香深西 | H21: → | K21: 廃止→香深(30310)へ統合
A22: 8 | B22: 留萌・稚内・宗谷地区 | C22: 46113 | D22: 廃止 | E22: 礼文町 | F22: 30330 | G22: 船泊 | H22: → | K22: 廃止→香深(30310)へ統合(全部数郵送化となります)
A23: 8 | B23: 留萌・稚内・宗谷地区 | C23: 46327 | D23: 廃止 | E23: 利尻町 | F23: 30290 | G23: 仙法志 | H23: → | K23: 廃止→鬼脇(30280)へ統合(全部数郵送化となります)
A24: 9 | B24: 北見・網走・紋別地区 | H24: →
A25: 10 | B25: 釧路・根室地区
A26: 11 | B26: 帯広・十勝地区 | C26: 46054 | D26: 廃止 | E26: 足寄町 | F26: 35300 | G26: 芽登 | H26: → | K26: 廃止→足寄(35290)へ統合
D28: ◆日経例外：他の複合店と異なり例外対応が可能です。詳しくはお問い合わせください。

Sheet 縦型集計
A1: 縦型集計表 | D1: =表紙!D5 -> 0 | E1: =IF(表紙!D6=0,"",表紙!D6) | F1: =IF(表紙!D7=0,"",表紙!D7) | G1: =IF(表紙!D8=0,"",表紙!D8) | H1: =IF(表紙!D9=0,"",表紙!D9) | I1: =表紙!P4 -> 0 | J1: =IF(表紙!D10=0,"",表紙!D10)
A2: 申込書NO. | B2: 銘柄 | C2: コード | D2: 販売店コード | E2: 販売店名 | F2: 定数 | G2: 折込部数 | J2: 申込書順 | K2: 地区コード | L2: 地区名 | N2: 配布指定（個別）※上限30字（全店、定数欠けとの合計）
A3: 1 | B3: 北海道 | C3: 201DS100110101010 | D3: 1010 | E3: 中央東 | F3: 4100 | G3: {=INDIRECT( VLOOKUP(D3,参照マップ!A:E, 5, FALSE) )} -> 0 | J3: 1 | K3: 01101 | L3: 札幌市中央区
A4: 1 | B4: 北海道 | C4: 201DS100110101020 | D4: 1020 | E4: 桑園中央北 | F4: 6710 | G4: {=INDIRECT( VLOOKUP(D4,参照マップ!A:E, 5, FALSE) )} -> 0 | J4: 2 | K4: 01101 | L4: 札幌市中央区
A5: 1 | B5: 北海道 | C5: 201DS100110101040 | D5: 1040 | E5: 中央南 | F5: 2180 | G5: {=INDIRECT( VLOOKUP(D5,参照マップ!A:E, 5, FALSE) )} -> 0 | J5: 3 | K5: 01101 | L5: 札幌市中央区
A6: 1 | B6: 北海道 | C6: 201DS100110101070 | D6: 1070 | E6: 曙 | F6: 1880 | G6: {=INDIRECT( VLOOKUP(D6,参照マップ!A:E, 5, FALSE) )} -> 0 | J6: 4 | K6: 01101 | L6: 札幌市中央区
A7: 1 | B7: 北海道 | C7: 201DS100110101080 | D7: 1080 | E7: 南円山 | F7: 3740 | G7: {=INDIRECT( VLOOKUP(D7,参照マップ!A:E, 5, FALSE) )} -> 0 | J7: 5 | K7: 01101 | L7: 札幌市中央区
A8: 1 | B8: 北海道 | C8: 201DS100110101090 | D8: 1090 | E8: 西円山 | F8: 2840 | G8: {=INDIRECT( VLOOKUP(D8,参照マップ!A:E, 5, FALSE) )} -> 0 | J8: 6 | K8: 01101 | L8: 札幌市中央区
A9: 1 | B9: 北海道 | C9: 201DS100110101100 | D9: 1100 | E9: 幌西 | F9: 2230 | G9: {=INDIRECT( VLOOKUP(D9,参照マップ!A:E, 5, FALSE) )} -> 0 | J9: 7 | K9: 01101 | L9: 札幌市中央区
A10: 1 | B10: 北海道 | C10: 201DS100110101110 | D10: 1110 | E10: 北円山 | F10: 2250 | G10: {=INDIRECT( VLOOKUP(D10,参照マップ!A:E, 5, FALSE) )} -> 0 | J10: 8 | K10: 01101 | L10: 札幌市中央区
A11: 1 | B11: 北海道 | C11: 201DS100110101120 | D11: 1120 | E11: 東山鼻 | F11: 2310 | G11: {=INDIRECT( VLOOKUP(D11,参照マップ!A:E, 5, FALSE) )} -> 0 | J11: 9 | K11: 01101 | L11: 札幌市中央区
A12: 1 | B12: 北海道 | C12: 201DS100110101130 | D12: 1130 | E12: 西山鼻 | F12: 3600 | G12: {=INDIRECT( VLOOKUP(D12,参照マップ!A:E, 5, FALSE) )} -> 0 | J12: 10 | K12: 01101 | L12: 札幌市中央区
A13: 1 | B13: 北海道 | C13: 201DS100110702015 | D13: 2015 | E13: 宮の森 | F13: 5960 | G13: {=INDIRECT( VLOOKUP(D13,参照マップ!A:E, 5, FALSE) )} -> 0 | J13: 11 | K13: 01107 | L13: 札幌市西区
A14: 1 | B14: 北海道 | C14: 201DS100110702020 | D14: 2020 | E14: 琴似 | F14: 3950 | G14: {=INDIRECT( VLOOKUP(D14,参照マップ!A:E, 5, FALSE) )} -> 0 | J14: 12 | K14: 01107 | L14: 札幌市西区
... A545: 11 | B545: 北海道 | C545: 201DS100164235450 | D545: 35450 | E545: 広尾 | F545: 665 | G545: {=INDIRECT( VLOOKUP(D545,参照マップ!A:E, 5, FALSE) )} -> 0 | J545: 543 | K545: 01642 | L545: 広尾郡広尾町

Sheet 参照マップ
A1: 販売店コード | B1: シート名 | C1: 行番号 | D1: 列記号 | E1: 参照式（自動生成）
A2: 1010 | B2: 1.札幌・江別・北広島・石狩市 | C2: =MATCH(A2, INDIRECT("'" & B2 & "'!C:C"), 0) -> 11 | D2: G | E2: ="'" & B2 & "'!" & D2 & C2 -> '1.札幌・江別・北広島・石狩市'!G11
A3: 1020 | B3: 1.札幌・江別・北広島・石狩市 | C3: =MATCH(A3, INDIRECT("'" & B3 & "'!C:C"), 0) -> 12 | D3: G | E3: ="'" & B3 & "'!" & D3 & C3 -> '1.札幌・江別・北広島・石狩市'!G12
A4: 1040 | B4: 1.札幌・江別・北広島・石狩市 | C4: =MATCH(A4, INDIRECT("'" & B4 & "'!C:C"), 0) -> 14 | D4: G | E4: ="'" & B4 & "'!" & D4 & C4 -> '1.札幌・江別・北広島・石狩市'!G14
A5: 1070 | B5: 1.札幌・江別・北広島・石狩市 | C5: =MATCH(A5, INDIRECT("'" & B5 & "'!C:C"), 0) -> 15 | D5: G | E5: ="'" & B5 & "'!" & D5 & C5 -> '1.札幌・江別・北広島・石狩市'!G15
A6: 1080 | B6: 1.札幌・江別・北広島・石狩市 | C6: =MATCH(A6, INDIRECT("'" & B6 & "'!C:C"), 0) -> 16 | D6: G | E6: ="'" & B6 & "'!" & D6 & C6 -> '1.札幌・江別・北広島・石狩市'!G16
A7: 1090 | B7: 1.札幌・江別・北広島・石狩市 | C7: =MATCH(A7, INDIRECT("'" & B7 & "'!C:C"), 0) -> 17 | D7: G | E7: ="'" & B7 & "'!" & D7 & C7 -> '1.札幌・江別・北広島・石狩市'!G17
A8: 1100 | B8: 1.札幌・江別・北広島・石狩市 | C8: =MATCH(A8, INDIRECT("'" & B8 & "'!C:C"), 0) -> 18 | D8: G | E8: ="'" & B8 & "'!" & D8 & C8 -> '1.札幌・江別・北広島・石狩市'!G18
A9: 1110 | B9: 1.札幌・江別・北広島・石狩市 | C9: =MATCH(A9, INDIRECT("'" & B9 & "'!C:C"), 0) -> 19 | D9: G | E9: ="'" & B9 & "'!" & D9 & C9 -> '1.札幌・江別・北広島・石狩市'!G19
A10: 1120 | B10: 1.札幌・江別・北広島・石狩市 | C10: =MATCH(A10, INDIRECT("'" & B10 & "'!C:C"), 0) -> 20 | D10: G | E10: ="'" & B10 & "'!" & D10 & C10 -> '1.札幌・江別・北広島・石狩市'!G20
A11: 1130 | B11: 1.札幌・江別・北広島・石狩市 | C11: =MATCH(A11, INDIRECT("'" & B11 & "'!C:C"), 0) -> 21 | D11: G | E11: ="'" & B11 & "'!" & D11 & C11 -> '1.札幌・江別・北広島・石狩市'!G21
A12: 2015 | B12: 1.札幌・江別・北広島・石狩市 | C12: =MATCH(A12, INDIRECT("'" & B12 & "'!C:C"), 0) -> 22 | D12: G | E12: ="'" & B12 & "'!" & D12 & C12 -> '1.札幌・江別・北広島・石狩市'!G22
A13: 2020 | B13: 1.札幌・江別・北広島・石狩市 | C13: =MATCH(A13, INDIRECT("'" & B13 & "'!C:C"), 0) -> 24 | D13: G | E13: ="'" & B13 & "'!" & D13 & C13 -> '1.札幌・江別・北広島・石狩市'!G24
... A25: 2130 | B25: 1.札幌・江別・北広島・石狩市 | C25: =MATCH(A25, INDIRECT("'" & B25 & "'!C:C"), 0) -> 36 | D25: G | E25: ="'" & B25 & "'!" & D25 & C25 -> '1.札幌・江別・北広島・石狩市'!G36
A26: 3020 | B26: 1.札幌・江別・北広島・石狩市 | C26: =MATCH(A26, INDIRECT("'" & B26 & "'!L:L"), 0) -> 11 | D26: P | E26: ="'" & B26 & "'!" & D26 & C26 -> '1.札幌・江別・北広島・石狩市'!P11
A27: 3030 | B27: 1.札幌・江別・北広島・石狩市 | C27: =MATCH(A27, INDIRECT("'" & B27 & "'!L:L"), 0) -> 12 | D27: P | E27: ="'" & B27 & "'!" & D27 & C27 -> '1.札幌・江別・北広島・石狩市'!P12
A28: 3040 | B28: 1.札幌・江別・北広島・石狩市 | C28: =MATCH(A28, INDIRECT("'" & B28 & "'!L:L"), 0) -> 13 | D28: P | E28: ="'" & B28 & "'!" & D28 & C28 -> '1.札幌・江別・北広島・石狩市'!P13
A29: 3041 | B29: 1.札幌・江別・北広島・石狩市 | C29: =MATCH(A29, INDIRECT("'" & B29 & "'!L:L"), 0) -> 14 | D29: P | E29: ="'" & B29 & "'!" & D29 & C29 -> '1.札幌・江別・北広島・石狩市'!P14
A30: 3050 | B30: 1.札幌・江別・北広島・石狩市 | C30: =MATCH(A30, INDIRECT("'" & B30 & "'!L:L"), 0) -> 15 | D30: P | E30: ="'" & B30 & "'!" & D30 & C30 -> '1.札幌・江別・北広島・石狩市'!P15
A31: 3060 | B31: 1.札幌・江別・北広島・石狩市 | C31: =MATCH(A31, INDIRECT("'" & B31 & "'!L:L"), 0) -> 16 | D31: P | E31: ="'" & B31 & "'!" & D31 & C31 -> '1.札幌・江別・北広島・石狩市'!P16
A32: 3070 | B32: 1.札幌・江別・北広島・石狩市 | C32: =MATCH(A32, INDIRECT("'" & B32 & "'!L:L"), 0) -> 17 | D32: P | E32: ="'" & B32 & "'!" & D32 & C32 -> '1.札幌・江別・北広島・石狩市'!P17
A33: 3080 | B33: 1.札幌・江別・北広島・石狩市 | C33: =MATCH(A33, INDIRECT("'" & B33 & "'!L:L"), 0) -> 18 | D33: P | E33: ="'" & B33 & "'!" & D33 & C33 -> '1.札幌・江別・北広島・石狩市'!P18
A34: 4010 | B34: 1.札幌・江別・北広島・石狩市 | C34: =MATCH(A34, INDIRECT("'" & B34 & "'!L:L"), 0) -> 19 | D34: P | E34: ="'" & B34 & "'!" & D34 & C34 -> '1.札幌・江別・北広島・石狩市'!P19
A35: 4012 | B35: 1.札幌・江別・北広島・石狩市 | C35: =MATCH(A35, INDIRECT("'" & B35 & "'!L:L"), 0) -> 20 | D35: P | E35: ="'" & B35 & "'!" & D35 & C35 -> '1.札幌・江別・北広島・石狩市'!P20
A36: 4020 | B36: 1.札幌・江別・北広島・石狩市 | C36: =MATCH(A36, INDIRECT("'" & B36 & "'!L:L"), 0) -> 21 | D36: P | E36: ="'" & B36 & "'!" & D36 & C36 -> '1.札幌・江別・北広島・石狩市'!P21
A37: 4040 | B37: 1.札幌・江別・北広島・石狩市 | C37: =MATCH(A37, INDIRECT("'" & B37 & "'!L:L"), 0) -> 22 | D37: P | E37: ="'" & B37 & "'!" & D37 & C37 -> '1.札幌・江別・北広島・石狩市'!P22
... A49: 57050 | B49: 1.札幌・江別・北広島・石狩市 | C49: =MATCH(A49, INDIRECT("'" & B49 & "'!L:L"), 0) -> 34 | D49: P | E49: ="'" & B49 & "'!" & D49 & C49 -> '1.札幌・江別・北広島・石狩市'!P34
A50: 4110 | B50: 1.札幌・江別・北広島・石狩市 | C50: =MATCH(A50, INDIRECT("'" & B50 & "'!U:U"), 0) -> 11 | D50: Y | E50: ="'" & B50 & "'!" & D50 & C50 -> '1.札幌・江別・北広島・石狩市'!Y11
A51: 4120 | B51: 1.札幌・江別・北広島・石狩市 | C51: =MATCH(A51, INDIRECT("'" & B51 & "'!U:U"), 0) -> 12 | D51: Y | E51: ="'" & B51 & "'!" & D51 & C51 -> '1.札幌・江別・北広島・石狩市'!Y12
A52: 4130 | B52: 1.札幌・江別・北広島・石狩市 | C52: =MATCH(A52, INDIRECT("'" & B52 & "'!U:U"), 0) -> 13 | D52: Y | E52: ="'" & B52 & "'!" & D52 & C52 -> '1.札幌・江別・北広島・石狩市'!Y13
A53: 4140 | B53: 1.札幌・江別・北広島・石狩市 | C53: =MATCH(A53, INDIRECT("'" & B53 & "'!U:U"), 0) -> 14 | D53: Y | E53: ="'" & B53 & "'!" & D53 & C53 -> '1.札幌・江別・北広島・石狩市'!Y14
A54: 57060 | B54: 1.札幌・江別・北広島・石狩市 | C54: =MATCH(A54, INDIRECT("'" & B54 & "'!U:U"), 0) -> 15 | D54: Y | E54: ="'" & B54 & "'!" & D54 & C54 -> '1.札幌・江別・北広島・石狩市'!Y15
A55: 5020 | B55: 1.札幌・江別・北広島・石狩市 | C55: =MATCH(A55, INDIRECT("'" & B55 & "'!U:U"), 0) -> 16 | D55: Y | E55: ="'" & B55 & "'!" & D55 & C55 -> '1.札幌・江別・北広島・石狩市'!Y16
A56: 5030 | B56: 1.札幌・江別・北広島・石狩市 | C56: =MATCH(A56, INDIRECT("'" & B56 & "'!U:U"), 0) -> 17 | D56: Y | E56: ="'" & B56 & "'!" & D56 & C56 -> '1.札幌・江別・北広島・石狩市'!Y17
A57: 5040 | B57: 1.札幌・江別・北広島・石狩市 | C57: =MATCH(A57, INDIRECT("'" & B57 & "'!U:U"), 0) -> 18 | D57: Y | E57: ="'" & B57 & "'!" & D57 & C57 -> '1.札幌・江別・北広島・石狩市'!Y18
A58: 5050 | B58: 1.札幌・江別・北広島・石狩市 | C58: =MATCH(A58, INDIRECT("'" & B58 & "'!U:U"), 0) -> 19 | D58: Y | E58: ="'" & B58 & "'!" & D58 & C58 -> '1.札幌・江別・北広島・石狩市'!Y19
A59: 5060 | B59: 1.札幌・江別・北広島・石狩市 | C59: =MATCH(A59, INDIRECT("'" & B59 & "'!U:U"), 0) -> 20 | D59: Y | E59: ="'" & B59 & "'!" & D59 & C59 -> '1.札幌・江別・北広島・石狩市'!Y20
A60: 5070 | B60: 1.札幌・江別・北広島・石狩市 | C60: =MATCH(A60, INDIRECT("'" & B60 & "'!U:U"), 0) -> 21 | D60: Y | E60: ="'" & B60 & "'!" & D60 & C60 -> '1.札幌・江別・北広島・石狩市'!Y21
A61: 5080 | B61: 1.札幌・江別・北広島・石狩市 | C61: =MATCH(A61, INDIRECT("'" & B61 & "'!U:U"), 0) -> 22 | D61: Y | E61: ="'" & B61 & "'!" & D61 & C61 -> '1.札幌・江別・北広島・石狩市'!Y22
... A74: 6110 | B74: 1.札幌・江別・北広島・石狩市 | C74: =MATCH(A74, INDIRECT("'" & B74 & "'!U:U"), 0) -> 37 | D74: Y | E74: ="'" & B74 & "'!" & D74 & C74 -> '1.札幌・江別・北広島・石狩市'!Y37
...

Sheet 1.札幌・江別・北広島・石狩市
A2: 1 | C2: 札幌・江別・北広島・石狩市 | J2: 46174 | O2: 北海道新聞折込広告申込書 | Y2: ㈱道新サービスセンター | AH2: －
H3: 201
A4: 伝票Ｎｏ. | D4: 折込日 | G4: 広告主名／件名（タイトル・売出し日など） | U4: 広告主業種 | X4: サイズ | AA4: コード | AD4: 代理店名 | AH4: 担当者
D5: =表紙!E5 | G5: =表紙!D6 -> 0 | U5: =表紙!D7 -> 0 | X5: =表紙!D8 -> 0 | AA5: =表紙!K4 -> 0 | AD5: =表紙!L4 -> 0 | AH5: =表紙!P4 -> 0 | AK5: 表紙へ戻る
A6: 搬入区分 | D6: 総枚数 | G6: ページ小計 | X6: 印刷会社 | AB6: 納品・広告内容に関わる連絡事項
D7: =表紙!J25 -> 0 | G7: =SUM(G11:G36,P11:P34,Y11:Y37,AH11:AH35) -> 0 | X7: =表紙!D9 -> 0 | AB7: =表紙!D10 -> 0 | AK7: 変更履歴へ
A9: ▼札幌・江別・北広島・石狩市（A地区）
A10: 市区 | C10: コード | E10: 店名 | F10: 定数 | G10: 折込枚数 | J10: 市区 | L10: コード | N10: 店名 | O10: 定数 | P10: 折込枚数 | S10: 市区 | U10: コード | W10: 店名 | X10: 定数 | Y10: 折込枚数 | AB10: 市区 | AD10: コード | AF10: 店名 | AG10: 定数 | AH10: 折込枚数
A11: 札幌市 | C11: 1010 | E11: 中央東 | F11: 4100 | H11: 01101201001 | J11: 札幌市 | L11: 3020 | N11: 川沿北 | O11: 2890 | Q11: 01106201002 | S11: 札幌市 | U11: 4110 | W11: 清田 | X11: 3170 | Z11: 01104201001 | AB11: 札幌市 | AD11: 7015 | AF11: 幌北 | AG11: 2390 | AI11: 01102201001
A12: 中央区 | C12: 1020 | E12: 桑園中央北 | F12: 6710 | H12: 01101201002 | J12: 南区 | L12: 3030 | N12: 藻南 | O12: 2760 | Q12: 01106201003 | S12: 清田区 | U12: 4120 | W12: 真栄 | X12: 4260 | Z12: 01104201002 | AB12: 北区 | AD12: 7030 | AF12: 麻生 | AG12: 5000 | AI12: 01102201003
C13: 1025 | E13: 桑園中央 | F13: （廃店 桑園中央北へ統合） | L13: 3040 | N13: 澄川４条 | O13: 2770 | Q13: 01106201004 | U13: 4130 | W13: 北野 | X13: 1040 | Z13: 01104201003 | AD13: 7040 | AF13: 新川 | AG13: 4850 | AI13: 01102201004
C14: 1040 | E14: 中央南 | F14: 2180 | H14: 01101201004 | L14: 3041 | N14: 澄川 | O14: 1790 | Q14: 01106201005 | S14: 定数計 | U14: 4140 | W14: 平岡 | X14: 5520 | Z14: 01104201004 | AD14: 7050 | AF14: 新琴似北部 | AG14: 4900 | AI14: 01102201005
C15: 1070 | E15: 曙 | F15: 1880 | H15: 01101201005 | L15: 3050 | N15: 真駒内 | O15: 4000 | Q15: 01106201006 | S15: =SUM(X11:X15) -> 14610 | U15: 57060 | W15: 毎日清田里塚 | X15: 620 | Z15: 01104201005 | AD15: 7070 | AF15: 新琴似西部 | AG15: 2330 | AI15: 01102201006
C16: 1080 | E16: 南円山 | F16: 3740 | H16: 01101201006 | L16: 3060 | N16: 石山 | O16: 2660 | Q16: 01106201007 | U16: 5020 | W16: 菊水 | X16: 1980 | Z16: 01104201006 | AD16: 7080 | AF16: 屯田 | AG16: 4610 | AI16: 01102201007
C17: 1090 | E17: 西円山 | F17: 2840 | H17: 01101201007 | J17: 定数計 | L17: 3070 | N17: 藤野 | O17: 2980 | Q17: 01106201008 | S17: 白石区 | U17: 5030 | W17: 菊水元町 | X17: 1370 | Z17: 01104201007 | AD17: 7085 | AF17: 屯田北 | AG17: （廃店 篠路へ統合）
C18: 1100 | E18: 幌西 | F18: 2230 | H18: 01101201008 | J18: =SUM(O11:O18) -> 20060 | L18: 3080 | N18: 定山渓 | O18: 210 | Q18: 01106201009 | U18: 5040 | W18: 東札幌 | X18: 3350 | Z18: 01108201001 | AD18: 7090 | AF18: 太平 | AG18: （廃店 篠路へ統合）
C19: 1110 | E19: 北円山 | F19: 2250 | H19: 01101201009 | J19: 豊平区 | L19: 4010 | N19: 豊平中央 | O19: 3200 | Q19: 01105201001 | U19: 5050 | W19: 白石 | X19: 2270 | Z19: 01108201002 | AB19: 定数計 | AD19: 7100 | AF19: 篠路 | AG19: 6590 | AI19: 01102201010
A20: 定数計 | C20: 1120 | E20: 東山鼻 | F20: 2310 | H20: 01101201010 | L20: 4012 | N20: 木の花 | O20: 2540 | Q20: 01105201002 | U20: 5060 | W20: 北郷 | X20: 3860 | Z20: 01108201003 | AB20: =SUM(AG11:AG20) -> 35290 | AD20: 7110 | AF20: あいの里 | AG20: 4620 | AI20: 01102201011
A21: =SUM(F11:F21) -> 31840 | C21: 1130 | E21: 西山鼻 | F21: 3600 | H21: 01101201011 | L21: 4020 | N21: 美園 | O21: 2300 | Q21: 01105201003 | S21: 定数計 | U21: 5070 | W21: 北白石 | X21: 2690 | Z21: 01108201004 | AB21: 石狩市 | AD21: 8010 | AF21: 花川東 | AG21: 1110 | AI21: 01235201001
A22: 西区 | C22: 2015 | E22: 宮の森 | F22: 5960 | H22: 01107201010 | L22: 4040 | N22: 平岸 | O22: 1710 | Q22: 01105201004 | S22: =SUM(X16:X22) -> 19490 | U22: 5080 | W22: 東白石 | X22: 3970 | Z22: 01108201005 | AB22: 【注】 | AD22: 8020 | AF22: 花川北 | AG22: 2710 | AI22: 01235201002
C23: 2011 | E23: 山の手 | F23: （廃店 宮の森へ統合） | L23: 4050 | N23: 中の島 | O23: 2110 | Q23: 01105201005 | S23: 厚別区 | U23: 5090 | W23: 青葉中央 | X23: 4770 | Z23: 01103201001 | AB23: 定数計 | AD23: 8030 | AF23: 花川南 | AG23: 2660 | AI23: 01235201003
C24: 2020 | E24: 琴似 | F24: 3950 | H24: 01107201002 | L24: 4060 | N24: 南郷 | O24: 2240 | Q24: 01105201006 | U24: 5100 | W24: もみじ台 | X24: 3900 | Z24: 01103201002 | AB24: =SUM(AG21:AG24) -> 7040 | AD24: 8035 | AF24: 石狩 | AG24: 560 | AI24: 01235201004
C25: 2025 | E25: 八軒 | F25: 3240 | H25: 01107201003 | L25: 4072 | N25: 月寒 | O25: 3250 | Q25: 01105201007 | U25: 5110 | W25: 厚別中央 | X25: 2040 | AB25: 江別市 | AD25: 8040 | AF25: 大麻 | AG25: 2080 | AI25: 01217201001
C26: 2030 | E26: 発寒 | F26: 2380 | H26: 01107201004 | L26: 4080 | N26: 福住 | O26: 2850 | Q26: 01105201008 | S26: 定数計 | U26: 5111 | W26: 厚別北 | X26: 4350 | Z26: 01103201004 | AD26: 8050 | AF26: 野幌大麻東 | AG26: 3490 | AI26: 01217201003
C27: 2040 | E27: 新発寒 | F27: 3840 | H27: 01107201005 | L27: 4090 | N27: 西岡 | O27: 2910 | Q27: 01105201009 | S27: =SUM(X23:X27) -> 20430 | U27: 5120 | W27: 上野幌 | X27: 5370 | Z27: 01103201005 | AD27: 8060 | AF27: 野幌南部 | AG27: 4080 | AI27: 01217201004
C28: 2050 | E28: 西野 | F28: 3320 | H28: 01107201006 | L28: 4100 | N28: 月寒東 | O28: 2310 | Q28: 01105201010 | S28: 東区 | U28: 6010 | W28: 札苗 | X28: 4770 | Z28: 01103201006 | AD28: 8071 | AF28: 江別西部 | AG28: 3270 | AI28: 01217201005
C29: 2055 | E29: 西野北 | F29: 1950 | H29: 01107201007 | L29: 4102 | N29: 北野通 | O29: 2240 | Q29: 01105201011 | U29: 6020 | W29: 苗穂 | X29: 3210 | Z29: 01103201007 | AB29: 定数計 | AD29: 8072 | AF29: 江別中央 | AG29: 3250 | AI29: 01217201006
A30: 定数計 | C30: 2060 | E30: 西野南 | F30: 2930 | H30: 01107201008 | L30: 57010 | N30: 毎日平岸 | O30: 270 | Q30: 01110201001 | U30: 6030 | W30: 伏古 | X30: （廃店 札苗・苗穂へ分割統合） | Z30: 01103201009 | AB30: =SUM(AG25:AG30) -> 19360 | AD30: 8080 | AF30: 江別東部 | AG30: 3190 | AI30: 01217201007
A31: =SUM(F22:F31) -> 31120 | C31: 2070 | E31: 宮の沢 | F31: 3550 | H31: 01107201009 | L31: 57020 | N31: 毎日美園 | O31: 440 | Q31: 01110201002 | U31: 6040 | W31: 北栄 | X31: （廃店 新道・光星・栄町東・丘珠へ分割統合） | Z31: 01103201010 | AB31: 北広島市 | AD31: 8090 | AF31: 北広島 | AG31: 3180 | AI31: 01234201001
A32: 手稲区 | C32: 2080 | E32: 手稲中央 | F32: 3850 | H32: 01109201002 | L32: 57030 | N32: 毎日月寒 | O32: 300 | Q32: 01110201003 | U32: 6041 | W32: 新道 | X32: 5540 | Z32: 01103201011 | AD32: 8100 | AF32: 広島 | AG32: 2520 | AI32: 01234201002
C33: 2090 | E33: 手稲富丘 | F33: 3220 | H33: 01109201003 | J33: 定数計 | L33: 57040 | N33: 毎日月寒東 | O33: 150 | Q33: 01110201004 | U33: 6060 | W33: 光星 | X33: 3430 | AD33: 8110 | AF33: 西の里 | AG33: 1010 | AI33: 01234201003
C34: 2100 | E34: 手稲前田 | F34: 3690 | H34: 01109201004 | J34: =SUM(O19:O34) -> 28870 | L34: 57050 | N34: 毎日福住 | O34: 50 | U34: 6070 | W34: 札幌鉄北 | X34: 6110 | AB34: 定数計 | AD34: 8120 | AF34: 大曲 | AG34: 2610 | AI34: 01234201004
A35: 定数計 | C35: 2120 | E35: 手稲稲穂 | F35: 2310 | H35: 01109201005 | U35: 6090 | W35: 栄町中央 | X35: 2090 | AB35: =SUM(AG31:AG35) -> 9430 | AD35: 57070 | AF35: 毎日大曲 | AG35: 110
A36: =SUM(F32:F36) -> 16270 | C36: 2130 | E36: 手稲星置 | F36: 3200 | H36: 01109201006 | S36: 定数計 | U36: 6100 | W36: 栄町東 | X36: 3400
S37: =SUM(X28:X37) -> 30540 | U37: 6110 | W37: 丘珠 | X37: 1990
A39: 注1：石狩市のうち、厚田区と浜益区は「6.空知・深川・夕張・当別地区」の申込書にあります。（Ｅ地区）
A40: 注2：店名に「毎日」と付した販売所は毎日新聞の専売店となり、北海道新聞ほか複合紙の部数は含みません。
A41: ◆ | B41: 市町村名 | E41: の地域の販売所へのお申込は「折込日4日前午前中」が締切です。それ以外の販売所は「折込日3日前午前中」が締切となります。（いずれも日・祝除く） | Q41: に販売所への折込申込は「折込日3日前午前中が締切です。(いずれも日祝除く）
A42: ただし申込締切日が土曜日にあたる場合、1営業日前日の午前中に繰り上がります。
A43: ◆市町村表記は販売所の所在地によるものです。店名と配達エリアの行政界は必ずしも一致しない場合があります。 | AF43: 札幌市内定数計 | AH43: =SUM(A21,A31,A36,J18,J34,S15,S22,S27,S37,AB20) -> 248520
...

Sheet 2.千歳・苫小牧・室蘭・日高地区
A2: 2 | C2: 千歳・苫小牧・室蘭・日高地区 | J2: 46296 | O2: 北海道新聞折込広告申込書 | Y2: ㈱道新サービスセンター | AH2: －
A3: 0
A4: 伝票Ｎｏ. | D4: 折込日 | G4: 広告主名／件名（タイトル・売出し日など） | U4: 広告主業種 | X4: サイズ | AA4: コード | AD4: 代理店名 | AH4: 担当者
D5: =表紙!E5 | G5: =表紙!D6 -> 0 | U5: =表紙!D7 -> 0 | X5: =表紙!D8 -> 0 | AA5: =表紙!K4 -> 0 | AD5: =表紙!L4 -> 0 | AH5: =表紙!P4 -> 0 | AK5: 表紙へ戻る
A6: 搬入区分 | D6: 総枚数 | G6: ページ小計 | L6: B地区枚数 | O6: E地区枚数 | X6: 印刷会社 | AB6: 納品・広告内容に関わる連絡事項
D7: =表紙!J25 -> 0 | G7: =L7+O7 -> 0 | L7: =SUM(G22:H28,G11:G18) -> 0 | O7: =SUM(P11:P20,P24:P37,Y11:Y14,Y18:Y26,AH11:AH29) -> 0 | X7: =表紙!D9 -> 0 | AB7: =表紙!D10 -> 0 | AK7: 変更履歴へ
A9: ▼恵庭・千歳方面（B地区） | J9: ▼室蘭・登別方面（E地区） | S9: ▼白老町（E地区） | AB9: ▼日高・静内・浦河方面（E地区）
A10: 市町村名 | C10: コード | E10: 店名 | F10: 定数 | G10: 折込枚数 | J10: 市町村名 | L10: コード | N10: 店名 | O10: 定数 | P10: 折込枚数 | S10: 市町村名 | U10: コード | W10: 店名 | X10: 定数 | Y10: 折込枚数 | AB10: 市町村名 | AD10: コード | AF10: 店名 | AG10: 定数 | AH10: 折込枚数
A11: 恵庭市 | C11: 50110 | E11: 島松 | F11: 1295 | H11: 01231201001 | J11: 室蘭市 | L11: 41010 | N11: 小橋内 | O11: 1155 | Q11: 01205201001 | S11: 白老町 | U11: 50180 | W11: 白老 | X11: 1060 | Z11: 01578201001 | AB11: 日高町 | AD11: 50340 | AF11: 日高 | AG11: 285 | AI11: 01610201001
C12: 50120 | E12: 恵庭西部 | F12: 4310 | H12: 01231201002 | L12: 41020 | N12: 母恋 | O12: （廃店 東町へ統合） | U12: 50190 | W12: 萩野 | X12: 1185 | Z12: 01578201002 | AD12: 50350 | AF12: 富川 | AG12: 1115 | AI12: 01610201002
C13: 50130 | E13: 恵庭東部 | F13: 2810 | H13: 01231201003 | L13: 41030 | N13: 東町 | O13: 2515 | Q13: 01205201003 | U13: 50200 | W13: 竹浦 | X13: 285 | Z13: 01578201003 | AD13: 50360 | AF13: 門別 | AG13: 285 | AI13: 01610201007
A14: 千歳市 | C14: 50140 | E14: 千歳西部 | F14: 4785 | H14: 01224201001 | L14: 41040 | N14: 中島 | O14: 2145 | Q14: 01205201004 | U14: 50210 | W14: 虎杖浜 | X14: (廃店 萩野へ統合) | Z14: 01578201004 | AD14: 50380 | AF14: 厚賀 | AG14: 1355 | AI14: 01610201008
C15: 50150 | E15: 千歳東部 | F15: 5180 | H15: 01224201002 | L15: 41050 | N15: 本輪西 | O15: 875 | Q15: 01205201005 | AB15: 新冠町 | AI15: 01610201006
C16: 50160 | E16: 千歳高台 | F16: （廃店 千歳西部・千歳東部へ分割統合） | L16: 41060 | N16: 白鳥台 | O16: 935 | Q16: 01205201006 | S16: ▼安平・厚真・むかわ方面（E地区） | AB16: 平取町 | AD16: 50320 | AF16: 平取 | AG16: 850 | AI16: 01607201001
C17: 57100 | E17: 毎日千歳中央 | F17: （廃店 千歳西部・千歳東部へ分割統合） | L17: 41080 | N17: 高砂 | O17: 2555 | Q17: 01205201008 | S17: 市町村名 | U17: コード | W17: 店名 | X17: 定数 | Y17: 折込枚数 | AD17: 50330 | AF17: 振内 | AG17: 215 | AI17: 01607201002
C18: 57110 | E18: 毎日千歳北栄 | F18: （廃店 千歳西部・千歳東部へ分割統合） | J18: 登別市 | L18: 41100 | N18: 鷲別 | O18: （廃店 高砂・幌別に分割統合） | Q18: 01230201001 | S18: 安平町 | U18: 50220 | W18: 追分 | X18: 605 | Z18: 01585201001 | AB18: 新ひだか町 | AD18: 50390 | AF18: 静内 | AG18: 3190 | AI18: 01608201001
L19: 41110 | N19: 幌別 | O19: 2520 | Q19: 01230201002 | U19: 50240 | W19: 早来 | X19: 545 | Z19: 01585201002 | AD19: 50400 | AF19: 御園 | AG19: 145 | AI19: 01609201001
A20: ▼苫小牧市（B地区） | H20: 01213201001 | L20: 41120 | N20: 登別 | O20: 525 | Q20: 01230201003 | U20: 50250 | W20: 遠浅 | X20: 230 | Z20: 01585201003 | AD20: 50415 | AF20: 東静内 | AG20: (廃店 静内へ統合) | AI20: 01609201002
A21: 市町村名 | C21: コード | E21: 店名 | F21: 定数 | G21: 折込枚数 | H21: 01213201002 | S21: 厚真町 | U21: 50260 | W21: 厚真 | X21: 600 | Z21: 01581201001 | AD21: 50435 | AF21: 三石 | AG21: 505 | AI21: 01609201003
A22: 苫小牧市 | C22: 50010 | E22: 美園 | F22: 2100 | H22: 01213201003 | J22: ▼伊達・洞爺方面（E地区） | U22: 50270 | W22: 上厚真 | X22: 300 | Z22: 01581201002 | AD22: 50440 | AF22: 歌笛 | AG22: 335 | AI22: 01609201004
C23: 50020 | E23: 春日 | F23: 2485 | J23: 市町村名 | L23: コード | N23: 店名 | O23: 定数 | P23: 折込枚数 | S23: むかわ町 | U23: 50280 | W23: 鵡川 | X23: 1005 | Z23: 01586201001 | AB23: 浦河町 | AD23: 50450 | AF23: 荻伏 | AG23: 485
C24: 50030 | E24: 沼ノ端 | F24: 2405 | H24: 01213201005 | J24: 伊達市 | L24: 13210 | N24: 黄金 | O24: 255 | Q24: 01233201001 | U24: 50290 | W24: 旭岡 | X24: 80 | Z24: 01586201002 | AD24: 50460 | AF24: 浦河 | AG24: 1990
C25: 50040 | E25: 大成 | F25: （廃店 啓北・柏木へ分割統合） | H25: 01213201006 | L25: 13220 | N25: 稀府 | O25: 300 | Q25: 01233201002 | U25: 50300 | W25: 穂別 | X25: 475 | Z25: 01586201003 | AB25: 様似町 | AD25: 50470 | AF25: 様似 | AG25: 995
C26: 50050 | E26: 啓北 | F26: 2965 | H26: 01213201007 | L26: 13230 | N26: 伊達 | O26: 4015 | Q26: 01233201003 | U26: 50310 | W26: 富内 | X26: 60 | Z26: 01586201005 | AB26: えりも町 | AD26: 50490 | AF26: えりも | AG26: 640
C27: 50060 | E27: 柏木 | F27: 2370 | L27: 13240 | N27: 長和 | O27: 350 | Q27: 01233201004 | Z27: 01601201001 | AD27: 50491 | AF27: 目黒 | AG27: 40
C28: 50070 | E28: のぞみ | F28: 2290 | L28: 13250 | N28: 有珠 | O28: （廃店 虻田へ統合） | Q28: 01233201005 | Z28: 01601201002 | AD28: 50500 | AF28: 庶野 | AG28: 110
L29: 15100 | N29: 大滝 | O29: 165 | Q29: 01233201006 | Z29: 01601201003 | AD29: 50510 | AF29: えりも岬 | AG29: 140
J30: 洞爺湖町 | L30: 15010 | N30: 虻田 | O30: 1380 | Q30: 01584201001
L31: 15020 | N31: 洞爺湖 | O31: 195 | Q31: 01584201002
L32: 15060 | N32: 向洞爺 | O32: 210 | Q32: 01584201003 | Z32: 01602201001
J33: 豊浦町 | L33: 15030 | N33: 豊浦 | O33: 495 | Q33: 01571201001 | Z33: 01602201002
L34: 15040 | N34: 大岸 | O34: 135 | Q34: 01571201002
L35: 15050 | N35: 礼文 | O35: （廃店 大岸へ統合） | Q35: 01571201003
J36: 壮瞥町 | L36: 15070 | N36: 壮瞥 | O36: 305 | Q36: 01575201001
L37: 15080 | N37: 久保内 | O37: 120 | Q37: 01575201002
A40: 注1:店名に「毎日」と付した販売所は毎日新聞の専売店となり、北海道新聞ほか複合紙の部数は含みません。
A41: ◆ | B41: 市町村名 | E41: の地域の販売所へのお申込は「折込日4日前午前中」が締切です。それ以外の販売所は「折込日3日前午前中」が締切となります。（いずれも日・祝除く） | Q41: に販売所への折込申込は「折込日3日前午前中が締切です。(いずれも日祝除く）
A42: ただし申込締切日が土曜日にあたる場合、1営業日前日の午前中に繰り上がります。
A43: ◆市町村表記は販売所の所在地によるものです。店名と配達エリアの行政界は必ずしも一致しない場合があります。 | AF43: B地区定数計 | AH43: =SUM(F11:F18,F22:F28) -> 32995
A44: ◆悪天候、災害、事故等、やむを得ない事由により折込遅延・不能となる場合があります。予めご了承ください。 | AF44: Ｅ地区定数計 | AH44: =SUM(O11,O13:O20,O24:O37,X11:X14,X18:X26,AG11:AG29) -> 40260
...

Sheet 3.小樽・岩内・倶知安地区
A2: 3 | C2: 小樽・岩内・倶知安地区 | J2: 46174 | O2: 北海道新聞折込広告申込書 | Y2: ㈱道新サービスセンター | AH2: －
H3: 201
A4: 伝票Ｎｏ. | D4: 折込日 | G4: 広告主名／件名（タイトル・売出し日など） | U4: 広告主業種 | X4: サイズ | AA4: コード | AD4: 代理店名 | AH4: 担当者
D5: =表紙!E5 | G5: =表紙!D6 -> 0 | U5: =表紙!D7 -> 0 | X5: =表紙!D8 -> 0 | AA5: =表紙!K4 -> 0 | AD5: =表紙!L4 -> 0 | AH5: =表紙!P4 -> 0 | AK5: 表紙へ戻る
A6: 搬入区分 | D6: 総枚数 | G6: ページ小計 | L6: B地区枚数 | O6: E地区枚数 | X6: 印刷会社 | AB6: 納品・広告内容に関わる連絡事項
D7: =表紙!J25 -> 0 | G7: =SUM(L7,O7) -> 0 | L7: =SUM(G11:H22) -> 0 | O7: =SUM(P11:P22,Y11:Y28,AH11:AH27) -> 0 | X7: =表紙!D9 -> 0 | AB7: =表紙!D10 -> 0 | AK7: 変更履歴へ
A9: ▼小樽市（B地区） | J9: ▼余市・積丹方面（E地区） | S9: ▼岩内・倶知安・ニセコ方面（E地区） | AB9: ▼寿都・島牧方面（E地区）
A10: 市町村名 | C10: コード | E10: 店名 | F10: 定数 | G10: 折込枚数 | J10: 市町村名 | L10: コード | N10: 店名 | O10: 定数 | P10: 折込枚数 | S10: 市町村名 | U10: コード | W10: 店名 | X10: 定数 | Y10: 折込枚数 | AB10: 市町村名 | AD10: コード | AF10: 店名 | AG10: 定数 | AH10: 折込枚数
A11: 小樽市 | C11: 52010 | E11: 銭函 | F11: 1390 | H11: 01203201001 | J11: 余市町 | L11: 51010 | N11: 余市 | O11: 3115 | Q11: 01408201001 | S11: 共和町 | U11: 12010 | W11: 国富 | X11: 200 | Z11: 01401201001 | AB11: 黒松内町 | AD11: 15140 | AF11: 白井川 | AG11: 70 | AI11: 01393201001
C12: 52020 | E12: 朝里・新光 | F12: 2180 | H12: 01203201002 | J12: 仁木町 | L12: 51030 | N12: 仁木 | O12: 485 | Q12: 01407201001 | U12: 12020 | W12: 共和 | X12: 635 | Z12: 01401201002 | AD12: 15150 | AF12: 黒松内 | AG12: 420 | AI12: 01393201002
C13: 52025 | E13: 望洋台 | F13: 985 | H13: 01203201003 | L13: 11031 | N13: 然別 | O13: 20 | Q13: 01407201002 | S13: 岩内町 | U13: 12040 | W13: 岩内 | X13: 2730 | Z13: 01402201001 | AD13: 15550 | AF13: 作開 | AG13: 25 | AI13: 01393201003
C14: 52030 | E14: 桜 | F14: （廃店 南小樽へ統合） | H14: 01203201004 | L14: 11032 | N14: 大江 | O14: 50 | Q14: 01407201003 | U14: 12050 | W14: 岩内西 | X14: （廃店 岩内へ統合） | AB14: 寿都町 | AD14: 15160 | AF14: 寿都 | AG14: 430 | AI14: 01392201001
C15: 52040 | E15: 南小樽 | F15: 3660 | L15: 11040 | N15: 銀山 | O15: 130 | Q15: 01407201004 | S15: 泊村 | U15: 12060 | W15: 泊 | X15: （廃店 岩内へ統合） | Z15: 01403201001 | AD15: 15551 | AF15: 湯別 | AG15: 35 | AI15: 01392201002
C16: 52050 | E16: 奥沢 | F16: （廃店 南小樽へ統合） | H16: 01203201006 | J16: 赤井川村 | L16: 11041 | N16: 都 | O16: 55 | Q16: 01409201001 | U16: 12061 | W16: 盃 | X16: 75 | Z16: 01403201002 | AD16: 15552 | AF16: 南歌棄 | AG16: 60 | AI16: 01392201003
C17: 52060 | E17: 松ヶ枝 | F17: 2480 | H17: 01203201007 | L17: 11050 | N17: 赤井川 | O17: 140 | Q17: 01409201002 | S17: 神恵内村 | U17: 12070 | W17: 神恵内 | X17: 170 | Z17: 01404201001 | AD17: 15553 | AF17: 歌棄 | AG17: (廃店 南歌棄へ統合) | AI17: 01392201004
C18: 52070 | E18: 緑 | F18: 3080 | H18: 01203201008 | J18: 古平町 | L18: 11060 | N18: 古平 | O18: 550 | Q18: 01406201001 | S18: 倶知安町 | U18: 12080 | W18: 倶知安 | X18: 2280 | Z18: 01400201001 | AD18: 15554 | AF18: 美谷 | AG18: 35 | AI18: 01392201005
C19: 52080 | E19: 錦町 | F19: 5010 | J19: 積丹町 | L19: 11065 | N19: 美国 | O19: 240 | Q19: 01405201001 | S19: ニセコ町 | U19: 12090 | W19: ニセコ | X19: 675 | Z19: 01395201001 | AD19: 15555 | AF19: 鮫取澗 | AG19: 10 | AI19: 01392201006
C20: 52100 | E20: 長橋 | F20: （廃店 緑・錦町・塩谷へ分割統合） | H20: 01203201010 | L20: 11070 | N20: 入舸 | O20: 35 | Q20: 01405201002 | S20: 京極町 | U20: 12100 | W20: 京極 | X20: 515 | Z20: 01399201001 | AD20: 15556 | AF20: 横澗 | AG20: 20 | AI20: 01392201007
C21: 52110 | E21: 塩谷 | F21: （廃店 錦町へ統合） | H21: 01203201011 | L21: 11080 | N21: 野塚 | O21: 70 | Q21: 01405201003 | S21: 喜茂別町 | U21: 12110 | W21: 喜茂別 | X21: 370 | Z21: 01398201001 | AD21: 15557 | AF21: 磯谷 | AG21: 20 | AI21: 01392201008
C22: 52120 | E22: 蘭島 | F22: 380 | L22: 11090 | N22: 余別 | O22: 60 | Q22: 01405201004 | U22: 12120 | W22: 鈴川 | X22: 45 | Z22: 01398201002 | AB22: 島牧村 | AD22: 15162 | AF22: 本目 | AG22: 70 | AI22: 01391201001
U23: 12130 | W23: 双葉 | X23: 50 | Z23: 01398201003 | AD23: 15166 | AF23: 豊浜 | AG23: 30 | AI23: 01391201003
S24: 真狩村 | U24: 12140 | W24: 真狩 | X24: 370 | Z24: 01396201001 | AD24: 15168 | AF24: 栄磯 | AG24: 25 | AI24: 01391201004
S25: 留寿都村 | U25: 12150 | W25: 留寿都 | X25: 235 | Z25: 01397201001 | AD25: 15170 | AF25: 永豊 | AG25: 95 | AI25: 01391201005
S26: 蘭越町 | U26: 15120 | W26: 蘭越 | X26: 805 | Z26: 01394201002 | AD26: 15171 | AF26: 江ノ島 | AG26: 10 | AI26: 01391201006
U27: 15130 | W27: 目名 | X27: (廃店 蘭越へ統合) | Z27: 01394201003 | AD27: 15180 | AF27: 島牧 | AG27: 75 | AI27: 01391201007
U28: 15559 | W28: 港 | X28: 35 | Z28: 01394201004
A41: ◆ | B41: 市町村名 | E41: の地域の販売所へのお申込は「折込日4日前午前中」が締切です。それ以外の販売所は「折込日3日前午前中」が締切となります。（いずれも日・祝除く） | Q41: に販売所への折込申込は「折込日3日前午前中が締切です。(いずれも日祝除く）
A42: ただし申込締切日が土曜日にあたる場合、1営業日前日の午前中に繰り上がります。
A43: ◆市町村表記は販売所の所在地によるものです。店名と配達エリアの行政界は必ずしも一致しない場合があります。 | AF43: B地区定数計 | AH43: =SUM(F11:F22) -> 19165
A44: ◆悪天候、災害、事故等、やむを得ない事由により折込遅延・不能となる場合があります。予めご了承ください。 | AF44: Ｅ地区定数計 | AH44: =SUM(O11:O22,X11:X28,AG11:AG27) -> 15570
A45: ◆店名に※印を付した販売所は、エリアの一部（遠隔地）で日曜・祝日折込分を翌日朝刊と同配いたします。 | AF45: 合 計 | AH45: =SUM(AH43:AH44) -> 34735
A46: ◆店名に（複）と付した販売所は、定数に朝日新聞・毎日新聞・読売新聞・日経新聞の枚数を含む複合店です。該当銘柄は販売所によって異なります。なお銘柄指定はできませんので予めご了承ください。

Sheet 4.長万部・八雲・桧山地区
A2: 4 | C2: 長万部・八雲・桧山地区 | J2: 46266 | O2: 北海道新聞折込広告申込書 | Y2: ㈱道新サービスセンター | AH2: －
H3: 201
A4: 伝票Ｎｏ. | D4: 折込日 | G4: 広告主名／件名（タイトル・売出し日など） | U4: 広告主業種 | X4: サイズ | AA4: コード | AD4: 代理店名 | AH4: 担当者
D5: =表紙!E5 | G5: =表紙!D6 -> 0 | U5: =表紙!D7 -> 0 | X5: =表紙!D8 -> 0 | AA5: =表紙!K4 -> 0 | AD5: =表紙!L4 -> 0 | AH5: =表紙!P4 -> 0 | AK5: 表紙へ戻る
A6: 搬入区分 | D6: 総枚数 | G6: ページ小計 | O6: E地区枚数 | R6: 離島枚数 | V6: 離島件数 | X6: 印刷会社 | AB6: 納品・広告内容に関わる連絡事項
D7: =表紙!J25 -> 0 | G7: =SUM(O7,R7) -> 0 | O7: =SUM(G11:G20,P11:P17,Y11:Y23) -> 0 | R7: =SUM(AH13:AH14) -> 0 | V7: =COUNTIF(AH13:AH14,">0") -> 0 | X7: =表紙!D9 -> 0 | AB7: =表紙!D10 -> 0 | AK7: 変更履歴へ
A9: ▼長万部・八雲方面（E地区） | J9: ▼瀬棚・今金方面（E地区） | S9: ▼江差方面（E地区） | AB9: ▼奥尻島
A10: 市町村名 | C10: コード | E10: 店名 | F10: 定数 | G10: 折込枚数 | J10: 市町村名 | L10: コード | N10: 店名 | O10: 定数 | P10: 折込枚数 | S10: 市町村名 | U10: コード | W10: 店名 | X10: 定数 | Y10: 折込枚数 | AB10: 離島
A11: 長万部町 | C11: 15260 | E11: 長万部 | F11: 855 | H11: 01347201002 | J11: せたな町 | L11: 15230 | N11: 瀬棚 | O11: 345 | Q11: 01371201004 | S11: 乙部町 | U11: 17550 | W11: 乙部 | X11: 925 | Z11: 01364201001
C12: 15270 | E12: 静狩 | F12: 60 | H12: 01347201003 | L12: 15195 | N12: 丹羽 | O12: 155 | Q12: 01371201001 | U12: 17560 | W12: 豊浜 | X12: 95 | Z12: 01364201003 | AB12: 市町村名 | AD12: コード | AF12: 店名 | AG12: 定数 | AH12: 折込枚数
C13: 15280 | E13: 二股 | F13: 30 | H13: 01347201004 | L13: 15200 | N13: 北桧山 | O13: 730 | Q13: 01371201002 | S13: 江差町 | U13: 17490 | W13: 江差 | X13: 995 | Z13: 01361201001 | AB13: 奥尻町 | AD13: 17630 | AF13: 奥尻 | AG13: 135 | AI13: 01367201001
A14: 八雲町 | C14: 15300 | E14: 落部 | F14: 325 | H14: 01346201001 | L14: 15210 | N14: 若松 | O14: 165 | Q14: 01371201003 | U14: 17500 | W14: 尾山 | X14: 235 | Z14: 01361201002 | AD14: 17640 | AF14: 青苗 | AG14: 60 | AI14: 01367201002
C15: 15320 | E15: 山越 | F15: （廃店 八雲へ統合） | L15: 17610 | N15: 宮野 | O15: （廃店 久遠へ統合） | U15: 17510 | W15: 水堀 | X15: （廃店 乙部へ統合） | Z15: 01361201003
C16: 15330 | E16: 八雲 | F16: 2305 | H16: 01346201004 | L16: 17620 | N16: 久遠 | O16: 225 | Q16: 01371201006 | S16: 厚沢部町 | U16: 17520 | W16: 厚沢部 | X16: 505 | Z16: 01363201001
C17: 15340 | E17: 山崎 | F17: （廃店 八雲へ統合） | H17: 01346201005 | J17: 今金町 | L17: 15190 | N17: 今金 | O17: 1115 | Q17: 01370201001 | U17: 17530 | W17: 鶉町 | X17: （廃店 乙部へ統合） | Z17: 01363201002
C18: 15350 | E18: 黒岩 | F18: 60 | H18: 01346201006 | U18: 17540 | W18: 館 | X18: 170 | Z18: 01363201003
C19: 17570 | E19: 相沼 | F19: 145 | H19: 01346201007 | S19: 上ノ国町 | U19: 17440 | W19: 湯の岱 | X19: 50 | Z19: 01362201001
C20: 17580 | E20: 熊石 | F20: 255 | H20: 01346201008 | U20: 17450 | W20: 桂岡 | X20: （廃店 上ノ国へ統合） | Z20: 01362201003
U21: 17460 | W21: 上ノ国 | X21: 615 | Z21: 01362201004
U22: 17470 | W22: 桧山石崎 | X22: 35 | Z22: 01362201005
U23: 17480 | W23: 小砂子 | X23: （廃店 上ノ国へ統合） | Z23: 01362201006
A41: ◆ | B41: 市町村名 | E41: の地域の販売所へのお申込は「折込日4日前午前中」が締切です。それ以外の販売所は「折込日3日前午前中」が締切となります。（いずれも日・祝除く） | Q41: に販売所への折込申込は「折込日3日前午前中が締切です。(いずれも日祝除く）
A42: ただし申込締切日が土曜日にあたる場合、1営業日前日の午前中に繰り上がります。
A43: ◆市町村表記は販売所の所在地によるものです。店名と配達エリアの行政界は必ずしも一致しない場合があります。 | AF43: E地区定数計 | AH43: =SUM(F11:F20,O11:O17,X11:X23) -> 10395
A44: ◆悪天候、災害、事故等、やむを得ない事由により折込遅延・不能となる場合があります。予めご了承ください。 | AF44: 離島定数計 | AH44: =SUM(AG13:AG14) -> 195
A45: ◆店名に※印を付した販売所は、エリアの一部（遠隔地）で日曜・祝日折込分を翌日朝刊と同配いたします。 | AF45: 合 計 | AH45: =SUM(AH43:AH44) -> 10590
A46: ◆店名に（複）と付した販売所は、定数に朝日新聞・毎日新聞・読売新聞・日経新聞の枚数を含む複合店です。該当銘柄は販売所によって異なります。なお銘柄指定はできませんので予めご了承ください。

Sheet 5.函館・森・松前地区
A2: 5 | C2: 函館・森・松前地区 | J2: 46174 | O2: 北海道新聞折込広告申込書 | Y2: ㈱道新サービスセンター | AH2: －
H3: 201
A4: 伝票Ｎｏ. | D4: 折込日 | G4: 広告主名／件名（タイトル・売出し日など） | U4: 広告主業種 | X4: サイズ | AA4: コード | AD4: 代理店名 | AH4: 担当者
D5: =表紙!E5 | G5: =表紙!D6 -> 0 | U5: =表紙!D7 -> 0 | X5: =表紙!D8 -> 0 | AA5: =表紙!K4 -> 0 | AD5: =表紙!L4 -> 0 | AH5: =表紙!P4 -> 0 | AK5: 表紙へ戻る
A6: 搬入区分 | D6: 総枚数 | G6: ページ小計 | L6: C地区枚数 | O6: E地区枚数 | X6: 印刷会社 | AB6: 納品・広告内容に関わる連絡事項
D7: =表紙!J25 -> 0 | G7: =SUM(L7,O7) -> 0 | L7: =O20 -> 0 | O7: =SUM(Y11:Y13,P24:P35,Y17:Y22,AH11:AH27) -> 0 | X7: =表紙!D9 -> 0 | AB7: =表紙!D10 -> 0 | AK7: 変更履歴へ
A9: ▼函館折込センター①（C地区） | J9: ▼函館折込センター②（C地区） | S9: ▼函館市・近郊（E地区） | AB9: ▼知内・松前方面（E地区）
A10: 市町村名 | C10: コード | E10: 店名 | F10: 定数 | G10: 折込枚数 | J10: 市町村名 | L10: コード | N10: 店名 | O10: 定数 | P10: 折込枚数 | S10: 市町村名 | U10: コード | W10: 店名 | X10: 定数 | Y10: 折込枚数 | AB10: 市町村名 | AD10: コード | AF10: 店名 | AG10: 定数 | AH10: 折込枚数
A11: 函館市 | C11: 43020 | E11: 旭 | F11: 2675 | H11: 01202201015 | J11: 北斗市 | L11: 43250 | N11: 上磯 | O11: 1780 | Q11: 01236201003 | S11: 北斗市 | U11: 17040 | W11: 茂辺地 | X11: 190 | Z11: 01236201001 | AB11: 木古内町 | AD11: 17060 | AF11: 上釜谷 | AG11: 55 | AI11: 01334201001
C12: 43030 | E12: 大手町 | F12: (廃店 旭・新川へ統合) | H12: 01202201016 | L12: 43260 | N12: 久根別 | O12: 1200 | Q12: 01236201004 | U12: 17050 | W12: 渡島当別 | X12: 135 | Z12: 01236201002 | AD12: 17070 | AF12: 泉沢 | AG12: 70 | AI12: 01334201002
C13: 43050 | E13: 新川 | F13: 3320 | H13: 01202201017 | L13: 43270 | N13: 七重浜 | O13: 1780 | Q13: 01236201005 | S13: 七飯町 | U13: 17030 | W13: 大沼 | X13: 370 | Z13: 01337201001 | AD13: 17090 | AF13: 木古内 | AG13: 790 | AI13: 01334201004
C14: 43060 | E14: 亀田 | F14: 2475 | H14: 01202201018 | L14: 43450 | N14: 大野 | O14: 1265 | Q14: 01236201006 | AB14: 知内町 | AD14: 17100 | AF14: 知内 | AG14: 605 | AI14: 01333201001
C15: 43070 | E15: 千代台 | F15: 1250 | H15: 01202201019 | L15: 43460 | N15: 市の渡 | O15: 330 | Q15: 01236201007 | S15: ▼森・鹿部方面（E地区） | AD15: 17101 | AF15: 涌元 | AG15: 80 | AI15: 01333201003
C16: 43080 | E16: 時任 | F16: （廃店 新川・千代台・深堀へ統合） | L16: 43470 | N16: 東前 | O16: （廃店 大野へ統合） | Q16: 01236201008 | S16: 市町村名 | U16: コード | W16: 店名 | X16: 定数 | Y16: 折込枚数 | AD16: 17102 | AF16: 小谷石 | AG16: 30 | AI16: 01333201004
C17: 43100 | E17: 本町 | F17: 2060 | H17: 01202201022 | L17: 43480 | N17: 千代田 | O17: （廃店 大野へ統合） | S17: 森町 | U17: 17390 | W17: 森 | X17: 1875 | Z17: 01345201003 | AD17: 17110 | AF17: 湯ノ里 | AG17: 95 | AI17: 01333201002
C18: 43110 | E18: 湯の川 | F18: 1350 | H18: 01202201023 | J18: 七飯町 | L18: 43350 | N18: 七飯 | O18: 2395 | Q18: 01337201002 | U18: 17430 | W18: 濁川 | X18: （廃店 森へ統合） | Z18: 01345201006 | AB18: 福島町 | AD18: 17120 | AF18: 福島 | AG18: 805 | AI18: 01332201001
C19: 43120 | E19: 上野 | F19: 2340 | H19: 01202201024 | J19: 定数合計 | O19: =SUM(F11:F30,O11:O18) -> 50290 | U19: 17370 | W19: 砂原 | X19: 395 | Z19: 01345201001 | AD19: 17125 | AF19: 千軒 | AG19: 20 | AI19: 01332201002
C20: 43130 | E20: 日吉 | F20: 2240 | H20: 01202201025 | J20: 申込枚数合計 | O20: =SUM(G11:G30,P11:P18) -> 0 | U20: 17380 | W20: 掛澗 | X20: 210 | Z20: 01345201002 | AD20: 17150 | AF20: 吉岡 | AG20: （廃店 福島へ統合） | AI20: 01332201003
C21: 43140 | E21: 深堀 | F21: 2225 | H21: 01202201026 | S21: 鹿部町 | U21: 17330 | W21: 鹿部 | X21: 590 | Z21: 01343201001 | AB21: 松前町 | AD21: 17160 | AF21: 白神 | AG21: 45 | AI21: 01331201001
C22: 43150 | E22: 富岡 | F22: 2185 | H22: 01202201027 | J22: ▼函館市・近郊（E地区） | U22: 57160 | W22: 毎日鹿部 | X22: （廃店 鹿部へ統合） | AD22: 17180 | AF22: 松前 | AG22: 865 | AI22: 01331201002
C23: 43160 | E23: 東富岡 | F23: 1790 | H23: 01202201028 | J23: 市町村名 | L23: コード | N23: 店名 | O23: 定数 | P23: 折込枚数 | AD23: 17190 | AF23: 館浜 | AG23: （廃店 松前へ統合） | AI23: 01331201003
C24: 43170 | E24: 本通 | F24: 1965 | H24: 01202201029 | J24: 函館市 | L24: 17010 | N24: 亀尾 | O24: 95 | Q24: 01202201001 | AD24: 17200 | AF24: 赤神 | AG24: （廃店 松前へ統合） | AI24: 01331201004
C25: 43180 | E25: 神山 | F25: 5640 | H25: 01202201030 | L25: 17340 | N25: 臼尻 | O25: 685 | Q25: 01202201011 | AD25: 17210 | AF25: 清部 | AG25: 80 | AI25: 01331201005
C26: 43190 | E26: 北美原 | F26: 3200 | H26: 01202201031 | L26: 17350 | N26: 木直 | O26: 75 | Q26: 01202201012 | AD26: 17220 | AF26: 江良 | AG26: （廃店 松前へ統合） | AI26: 01331201006
C27: 43200 | E27: 旭岡 | F27: 720 | H27: 01202201032 | L27: 17360 | N27: 古部 | O27: （廃店 椴法華へ統合） | Q27: 01202201013 | AD27: 17230 | AF27: 原口 | AG27: （廃店 清部へ統合）
C28: 43300 | E28: 港 | F28: 1175 | H28: 01202201033 | L28: 17320 | N28: 椴法華 | O28: 175 | Q28: 01202201010
C29: 43400 | E29: 桔梗 | F29: 4145 | H29: 01202201034 | L29: 17280 | N29: 尻岸内 | O29: 405 | Q29: 01202201006
C30: 43500 | E30: 銭亀 | F30: 785 | H30: 01202201035 | L30: 17290 | N30: 古武井 | O30: （廃店 尻岸内へ統合）
L31: 17300 | N31: 恵山 | O31: 100 | Q31: 01202201008
L32: 17240 | N32: 小安 | O32: 120 | Q32: 01202201002
L33: 17250 | N33: 下釜谷 | O33: 75 | Q33: 01202201003
L34: 17260 | N34: 汐首 | O34: （廃店 戸井へ統合）
L35: 17270 | N35: 戸井 | O35: 285 | Q35: 01202201005
A40: 注1:店名に「毎日」と付した販売所は毎日新聞の専売店となり、北海道新聞ほか複合紙の部数は含みません。
A41: ◆ | B41: 市町村名 | E41: の地域の販売所へのお申込は「折込日4日前午前中」が締切です。それ以外の販売所は「折込日3日前午前中」が締切となります。（いずれも日・祝除く） | Q41: に販売所への折込申込は「折込日3日前午前中が締切です。(いずれも日祝除く）
A42: ただし申込締切日が土曜日にあたる場合、1営業日前日の午前中に繰り上がります。
A43: ◆市町村表記は販売所の所在地によるものです。店名と配達エリアの行政界は必ずしも一致しない場合があります。 | AF43: Ｃ地区定数計 | AH43: =O19 -> 50290
A44: ◆悪天候、災害、事故等、やむを得ない事由により折込遅延・不能となる場合があります。予めご了承ください。 | AF44: Ｅ地区定数計 | AH44: =SUM(X11:X13,O24:O35,X17:X22,AG11:AG27) -> 9320
A45: ◆店名に※印を付した販売所は、エリアの一部（遠隔地）で日曜・祝日折込分を翌日朝刊と同配いたします。 | AF45: 合 計 | AH45: =SUM(AH43:AH44) -> 59610
A46: ◆店名に（複）と付した販売所は、定数に朝日新聞・毎日新聞・読売新聞・日経新聞の枚数を含む複合店です。該当銘柄は販売所によって異なります。なお銘柄指定はできませんので予めご了承ください。

Sheet 6.空知・深川・夕張・当別地区
A2: 6 | C2: 空知・深川・夕張・当別地区 | J2: 46235 | O2: 北海道新聞折込広告申込書 | Y2: ㈱道新サービスセンター | AH2: －
H3: 201
A4: 伝票Ｎｏ. | D4: 折込日 | G4: 広告主名／件名（タイトル・売出し日など） | U4: 広告主業種 | X4: サイズ | AA4: コード | AD4: 代理店名 | AH4: 担当者
A5: =IF(OR(AF30="○",AF32="○"),"～","") | D5: =表紙!E5 | G5: =表紙!D6 -> 0 | U5: =表紙!D7 -> 0 | X5: =表紙!D8 -> 0 | AA5: =表紙!K4 -> 0 | AD5: =表紙!L4 -> 0 | AH5: =表紙!P4 -> 0 | AK5: 表紙へ戻る
A6: 搬入区分 | D6: 総枚数 | G6: ページ小計 | O6: E地区枚数 | X6: 印刷会社 | AB6: 納品・広告内容に関わる連絡事項
D7: =表紙!J25 -> 0 | G7: =SUM(O7) -> 0 | O7: =SUM(G11:G19,G27:G32,P11:P21,Y11:Y33,AH11:AH23) -> 0 | X7: =表紙!D9 -> 0 | AB7: =表紙!D10 -> 0 | AK7: 変更履歴へ
A9: ▼当別・厚田方面（E地区） | J9: ▼長沼・栗山・夕張方面（E地区） | S9: ▼岩見沢・滝川・芦別方面（E地区）注1・2 | AB9: ▼深川・幌加内方面（E地区）
A10: 市町村名 | C10: コード | E10: 店名 | F10: 定数 | G10: 折込枚数 | J10: 市町村名 | L10: コード | N10: 店名 | O10: 定数 | P10: 折込枚数 | S10: 市町村名 | U10: コード | W10: 店名 | X10: 定数 | Y10: 折込枚数 | AB10: 市町村名 | AD10: コード | AF10: 店名 | AG10: 定数 | AH10: 折込枚数
A11: 当別町 | C11: 14040 | E11: 当別 | F11: 1620 | H11: 01303201001 | J11: 長沼町 | L11: 14160 | N11: 長沼 | O11: 1820 | Q11: 01428201001 | U11: 14110 | W11: 北村 | X11: 495 | Z11: 01210201001 | AB11: 深川市 | AD11: 16410 | AF11: 鷹泊 | AG11: （廃店 深川へ統合） | AI11: 01228201001
C12: 14050 | E12: 太美 | F12: 870 | H12: 01303201002 | J12: 南幌町 | L12: 14150 | N12: 南幌 | O12: 1355 | Q12: 01423201001 | U12: 16010 | W12: 幌向 | X12: 1435 | Z12: 01210201005 | AD12: 16420 | AF12: 多度志 | AG12: 135 | AI12: 01228201002
A13: 石狩市 | C13: 14020 | E13: 望来 | F13: 225 | H13: 01235201005 | J13: 栗山町 | L13: 14170 | N13: 栗山 | O13: 2830 | Q13: 01429201001 | U13: 16020 | W13: 岩見沢中部 | X13: 4450 | Z13: 01210201006 | AD13: 16430 | AF13: 納内 | AG13: （廃店 深川へ統合）
C14: 14021 | E14: 古潭 | F14: （廃店 望来へ統合） | H14: 01235201014 | J14: 由仁町 | L14: 14190 | N14: 由仁 | O14: （廃店 栗山へ統合） | S14: 岩見沢市 | U14: 16030 | W14: 岩見沢東部 | X14: 1980 | Z14: 01210201007 | AD14: 16440 | AF14: 深川 | AG14: 4365 | AI14: 01228201004
C15: 14030 | E15: 厚田 | F15: （廃店 望来へ統合） | H15: 01235201006 | L15: 14200 | N15: 三川 | O15: 380 | Q15: 01427201002 | S15: 【注1】 | U15: 16040 | W15: 岩見沢西部 | X15: 3365 | Z15: 01210201008 | AB15: 妹背牛町 | AD15: 16450 | AF15: 妹背牛 | AG15: 765 | AI15: 01433201001
C16: 16380 | E16: 浜益 | F16: 200 | H16: 01235201007 | L16: 14210 | N16: 川端 | O16: 75 | Q16: 01427201003 | S16: 【注2】 | U16: 16050 | W16: 志文 | X16: 820 | Z16: 01210201009 | AB16: 秩父別町 | AD16: 16460 | AF16: 秩父別 | AG16: 585 | AI16: 01434201001
C17: 16382 | E17: 群別 | F17: 20 | H17: 01235201009 | J17: 夕張市 | L17: 14070 | N17: 夕張 | O17: 1280 | Q17: 01209201001 | U17: 14130 | W17: 万字 | X17: 25 | Z17: 01210201003 | AB17: 北竜町 | AD17: 16470 | AF17: 北竜 | AG17: 425 | AI17: 01437201001
C18: 16385 | E18: 第二川下 | F18: （廃店 浜益へ統合） | H18: 01235201011 | L18: 14090 | N18: 鹿の谷 | O18: （廃店 夕張へ統合） | U18: 14140 | W18: 栗沢 | X18: 1090 | Z18: 01210201004 | AD18: 16480 | AF18: 碧水 | AG18: （廃店 北竜へ統合） | AI18: 01437201002
C19: 16386 | E19: 送毛 | F19: （廃店 第二川下へ統合） | H19: 01235201013 | L19: 14220 | N19: 滝ノ上 | O19: （廃店 夕張へ統合） | S19: 三笠市 | U19: 16070 | W19: 三笠 | X19: 1470 | Z19: 01222201001 | AB19: 沼田町 | AD19: 16490 | AF19: 沼田 | AG19: 715 | AI19: 01438201001
A20: ◎「1.札幌・江別・北広島・石狩市」申込書に | L20: 14230 | N20: 紅葉山 | O20: （廃店 夕張へ統合） | Q20: 01209201004 | S20: 美唄市 | U20: 16100 | W20: 峰延 | X20: (廃店 北村・岩見沢東部・三笠・美唄東へ分割統合) | AB20: 幌加内町 | AD20: 16390 | AF20: 幌加内 | AG20: 205 | AI20: 01439201001
A21: 石狩市販売所が一部含まれます。 | L21: 14240 | N21: 楓 | O21: 35 | Q21: 01209201005 | U21: 16110 | W21: 美唄西 | X21: 2090 | Z21: 01215201002 | AD21: 18430 | AF21: 朱鞠内 | AG21: （廃店 幌加内へ統合）
U22: 16120 | W22: 美唄東 | X22: 1800 | Z22: 01215201003 | AD22: 18450 | AF22: 政和 | AG22: 15 | AI22: 01439201003
S23: 奈井江町 | U23: 16150 | W23: 奈井江 | X23: 1145 | Z23: 01424201001 | AB23: ※雨竜販売所は月形・新十津川方面に移動しました。
S24: 砂川市 | U24: 16160 | W24: 砂川南部 | X24: （廃店 砂川へ統合） | Z24: 01226201001
A25: ▼月形・新十津川方面（E地区） | U25: 16170 | W25: 砂川 | X25: 2870 | Z25: 01226201002 | AB25: 同一市内広告主 | AH25: 【注1】
A26: 市町村名 | C26: コード | E26: 店名 | F26: 定数 | G26: 折込枚数 | S26: 滝川市 | U26: 16180 | W26: 滝川中央 | X26: 3380 | Z26: 01225201001
A27: 新篠津村 | C27: 14100 | E27: 新篠津 | F27: 655 | H27: 01304201001 | U27: 16190 | W27: 滝川北 | X27: 3255 | Z27: 01225201002 | AB27: 市町村名 | AD27: No. | AF27: 所在有無 | AG27: 定数 | AH27: 折込枚数
A28: 月形町 | C28: 16350 | E28: 札比内 | F28: （廃店 月形へ統合） | H28: 01430201001 | S28: 【注1】 | U28: 57150 | W28: 毎日滝川中央 | X28: (廃店 滝川中央・滝川北へ分割統合) | Z28: 01425201001 | AB28: 一般店 | AG28: =AH45-SUM(AG30:AG33) -> 40000 | AH28: =IF(SUM(AH30:AH33)>0,G7-SUM(AH30:AH33),"")
C29: 16360 | E29: 月形 | F29: 590 | H29: 01430201002 | S29: 上砂川町 | U29: 16210 | W29: 上砂川 | X29: 1130
A30: 浦臼町 | C30: 16340 | E30: 浦臼 | F30: 420 | H30: 01431201001 | S30: 歌志内市 | U30: 16220 | W30: 歌志内 | X30: （廃店 上砂川へ統合） | Z30: 01218201001 | AB30: 岩見沢市 | AG30: =SUM(X13:X15) -> 9795 | AH30: =IF(AF30="○",SUM(Y13:Y15),"")
A31: 新十津川町 | C31: 16310 | E31: 新十津川 | F31: 1295 | H31: 01432201001 | S31: 赤平市 | U31: 16230 | W31: 赤平 | X31: 1460 | Z31: 01216201001
A32: 雨竜町 | C32: 16300 | E32: 雨竜 | F32: 505 | H32: 01436201001 | S32: 芦別市 | U32: 16250 | W32: 芦別 | X32: 2785 | Z32: 01216201002 | AB32: 滝川市 | AG32: =SUM(X26:X27) -> 6635 | AH32: =IF(AF32="○",SUM(Y26:Y27),"")
U33: 16280 | W33: 上芦別 | X33: （廃店 芦別へ統合）
AB34: ◎岩見沢市および滝川市での広告主所在有無を
AB35: 所在有無欄「○」、「×」にて選択願います。
A38: 注1：岩見沢市内の「中部」・「東部」・「西部」の3販売所と滝川市内の「中央」・「北」の2販売所は、同一市内に広告主が所在する場合、料金割増となる場合があります。詳細はお問い合わせください。
A39: 注2：「志文」は最低500枚以上の折込申込のみ受付いたします。
A40: 注3:店名に「毎日」と付した販売所は毎日新聞の専売店となり、北海道新聞ほか複合紙の部数は含みません。
A41: ◆ | B41: 市町村名 | E41: の地域の販売所へのお申込は「折込日4日前午前中」が締切です。それ以外の販売所は「折込日3日前午前中」が締切となります。（いずれも日・祝除く） | Q41: に販売所への折込申込は「折込日3日前午前中が締切です。(いずれも日祝除く）
A42: ただし申込締切日が土曜日にあたる場合、1営業日前日の午前中に繰り上がります。
A43: ◆市町村表記は販売所の所在地によるものです。店名と配達エリアの行政界は必ずしも一致しない場合があります。
A44: ◆悪天候、災害、事故等、やむを得ない事由により折込遅延・不能となる場合があります。予めご了承ください。 | AF44: Ｅ地区定数計 | AH44: =SUM(F11:F19,F27:F32,O11:O21,X11:X33,AG11:AG22) -> 56430
...

Sheet 7.旭川・富良野・名寄・士別地区
A2: 7 | C2: 旭川・富良野・名寄・士別地区 | J2: 46174 | O2: 北海道新聞折込広告申込書 | Y2: ㈱道新サービスセンター | AH2: －
H3: 201
A4: 伝票Ｎｏ. | D4: 折込日 | G4: 広告主名／件名（タイトル・売出し日など） | U4: 広告主業種 | X4: サイズ | AA4: コード | AD4: 代理店名 | AH4: 担当者
D5: =表紙!E5 | G5: =表紙!D6 -> 0 | U5: =表紙!D7 -> 0 | X5: =表紙!D8 -> 0 | AA5: =表紙!K4 -> 0 | AD5: =表紙!L4 -> 0 | AH5: =表紙!P4 -> 0 | AK5: 表紙へ戻る
A6: 搬入区分 | D6: 総枚数 | G6: ページ小計 | L6: D地区枚数 | O6: E地区枚数 | X6: 印刷会社 | AB6: 納品・広告内容に関わる連絡事項
D7: =表紙!J25 -> 0 | G7: =SUM(L7,O7) -> 0 | L7: =F37 -> 0 | O7: =SUM(P11:P20,Y11:Y25,AH11:AH20) -> 0 | X7: =表紙!D9 -> 0 | AB7: =表紙!D10 -> 0 | AK7: 変更履歴へ
A9: ▼旭川折込広告協同組合（D地区） | J9: ▼旭川市・鷹栖・当麻・東神楽方面（E地区） | S9: ▼名寄・士別方面（E地区） | AB9: ▼富良野方面（E地区）
A10: 市町村名 | C10: コード | E10: 店名 | F10: 定数 | G10: 折込枚数 | J10: 市町村名 | L10: コード | N10: 店名 | O10: 定数 | P10: 折込枚数 | S10: 市町村名 | U10: コード | W10: 店名 | X10: 定数 | Y10: 折込枚数 | AB10: 市町村名 | AD10: コード | AF10: 店名 | AG10: 定数 | AH10: 折込枚数
A11: 旭川市 | C11: 44020 | E11: 中央西 | F11: 3200 | H11: 01204201004 | J11: 旭川市 | L11: 18003 | N11: 江丹別 | O11: 30 | Q11: 01204201001 | S11: 和寒町 | U11: 18270 | W11: 和寒 | X11: 780 | Z11: 01464201001 | AB11: 美瑛町 | AD11: 18100 | AF11: 美瑛 | AG11: 1920 | AI11: 01459201001
C12: 44030 | E12: 豊岡 | F12: 1490 | H12: 01204201005 | L12: 18006 | N12: 嵐山 | O12: （廃店 忠和へ統合） | Q12: 01204201002 | S12: 剣淵町 | U12: 18280 | W12: 剣淵 | X12: 705 | Z12: 01465201001 | AD12: 18120 | AF12: 美馬牛 | AG12: （廃店 美瑛へ統合）
C13: 44040 | E13: 東光西 | F13: 3305 | H13: 01204201006 | J13: 鷹栖町 | L13: 18010 | N13: 鷹栖 | O13: 1390 | Q13: 01452201001 | S13: 士別市 | U13: 18290 | W13: 士別北 | X13: （廃店 士別へ統合） | AB13: 上富良野町 | AD13: 18130 | AF13: 上富良野 | AG13: 2565 | AI13: 01460201001
C14: 44050 | E14: 旭町 | F14: 2240 | H14: 01204201007 | J14: 比布町 | L14: 18040 | N14: 比布 | O14: 800 | Q14: 01455201001 | U14: 18300 | W14: 士別 | X14: 2530 | Z14: 01220201002 | AB14: 中富良野町
C15: 44060 | E15: 大雪 | F15: 3580 | H15: 01204201008 | J15: 当麻町 | L15: 18050 | N15: 当麻 | O15: 1340 | Q15: 01454201001 | U15: 18330 | W15: 多寄 | X15: 185 | Z15: 01220201005 | AB15: 富良野市 | AD15: 18150 | AF15: 富良野 | AG15: 3715 | AI15: 01229201001
C16: 44185 | E16: 東８条 | F16: 1865 | H16: 01204201009 | J16: 愛別町 | L16: 18060 | N16: 愛別 | O16: 490 | Q16: 01456201001 | U16: 18340 | W16: 朝日 | X16: 305 | Z16: 01220201006 | AD16: 18160 | AF16: 山部 | AG16: 405 | AI16: 01229201002
C17: 44080 | E17: 東部 | F17: (廃店 中央西・東光西・大雪へ分割統合) | H17: 01204201010 | L17: 18070 | N17: 中愛別 | O17: 205 | Q17: 01456201002 | S17: 名寄市 | U17: 18350 | W17: 風連 | X17: 730 | Z17: 01221201001 | AD17: 18170 | AF17: 東山 | AG17: 150 | AI17: 01229201003
C18: 44090 | E18: 末広東 | F18: 3985 | H18: 01204201011 | J18: 東川町 | L18: 18020 | N18: 東川 | O18: 1705 | Q18: 01458201001 | U18: 18360 | W18: 名寄南 | X18: （廃店 名寄へ統合） | Z18: 01221201002 | AB18: 南富良野町 | AD18: 18190 | AF18: 金山 | AG18: 80 | AI18: 01462201002
C19: 44100 | E19: 神楽 | F19: 1830 | H19: 01204201012 | J19: 東神楽町 | L19: 18030 | N19: 東神楽 | O19: 1775 | Q19: 01453201001 | U19: 18370 | W19: 名寄 | X19: 3310 | Z19: 01221201003 | AD19: 18210 | AF19: 幾寅 | AG19: 375 | AI19: 01462201003
C20: 44110 | E20: 神居 | F20: 2515 | H20: 01204201013 | J20: 上川町 | L20: 18090 | N20: 上川 | O20: 800 | Q20: 01457201001 | S20: 下川町 | U20: 18400 | W20: 下川 | X20: 445 | Z20: 01468201001 | AB20: 占冠村 | AD20: 18230 | AF20: 占冠 | AG20: 230 | AI20: 01463201001
C21: 44120 | E21: 忠和 | F21: 3030 | H21: 01204201014 | S21: 美深町 | U21: 18240 | W21: 美深 | X21: 905 | Z21: 01469201001
C22: 44130 | E22: 近文 | F22: 2125 | H22: 01204201015 | U22: 18260 | W22: 恩根内 | X22: （廃店 美深へ統合）
C23: 44140 | E23: 住吉 | F23: 4005 | H23: 01204201016 | S23: 音威子府村 | U23: 30450 | W23: 音威子府 | X23: 135 | Z23: 01470201001
C24: 44150 | E24: 東旭川 | F24: （廃店 豊岡北へ統合） | S24: 中川町 | U24: 30470 | W24: 佐久 | X24: 30 | Z24: 01471201001
C25: 44155 | E25: 豊岡北 | F25: 2855 | H25: 01204201018 | U25: 30480 | W25: 天塩中川 | X25: 265 | Z25: 01471201002
C26: 44160 | E26: 永山 | F26: 5020 | H26: 01204201019
C27: 44170 | E27: 末広西 | F27: 2910 | H27: 01204201020
C28: 44180 | E28: 永山南 | F28: 2785 | H28: 01204201021
C29: 44190 | E29: 東光東 | F29: 2305 | H29: 01204201022
C30: 44200 | E30: 東光南 | F30: 1920 | H30: 01204201023
C31: 44210 | E31: 豊岡四条通 | F31: 2200 | H31: 01204201024
C32: 44220 | E32: 緑が丘 | F32: 2145 | H32: 01204201025
C33: 44230 | E33: 神楽岡 | F33: （廃店 緑が丘・緑が丘東へ分割統合）
C34: 44240 | E34: 緑が丘東 | F34: 2640 | H34: 01204201027
C35: 44250 | E35: 東鷹栖 | F35: 1065 | H35: 01204201028
A36: 定数合計 | F36: =SUM(F11:F35) -> 59015
A37: 申込枚数合計 | F37: =SUM(G11:G35) -> 0
A41: ◆ | B41: 市町村名 | E41: の地域の販売所へのお申込は「折込日4日前午前中」が締切です。それ以外の販売所は「折込日3日前午前中」が締切となります。（いずれも日・祝除く） | Q41: に販売所への折込申込は「折込日3日前午前中が締切です。(いずれも日祝除く）
A42: ただし申込締切日が土曜日にあたる場合、1営業日前日の午前中に繰り上がります。
A43: ◆市町村表記は販売所の所在地によるものです。店名と配達エリアの行政界は必ずしも一致しない場合があります。 | AF43: Ｄ地区定数計 | AH43: =F36 -> 59015
A44: ◆悪天候、災害、事故等、やむを得ない事由により折込遅延・不能となる場合があります。予めご了承ください。 | AF44: Ｅ地区定数計 | AH44: =SUM(O11:O20,X11:X25,AG11:AG20) -> 28300
A45: ◆店名に※印を付した販売所は、エリアの一部（遠隔地）で日曜・祝日折込分を翌日朝刊と同配いたします。 | AF45: 合 計 | AH45: =SUM(AH43:AH44) -> 87315
...

Sheet 8.留萌・稚内・宗谷地区
A2: 8 | C2: 留萌・稚内・宗谷地区 | J2: 46327 | O2: 北海道新聞折込広告申込書 | Y2: ㈱道新サービスセンター | AH2: －
H3: 201
A4: 伝票Ｎｏ. | D4: 折込日 | G4: 広告主名／件名（タイトル・売出し日など） | U4: 広告主業種 | X4: サイズ | AA4: コード | AD4: 代理店名 | AH4: 担当者
D5: =表紙!E5 | G5: =表紙!D6 -> 0 | U5: =表紙!D7 -> 0 | X5: =表紙!D8 -> 0 | AA5: =表紙!K4 -> 0 | AD5: =表紙!L4 -> 0 | AH5: =表紙!P4 -> 0 | AK5: 表紙へ戻る
A6: 搬入区分 | D6: 総枚数 | G6: ページ小計 | O6: E地区枚数 | R6: 離島枚数 | V6: 離島件数 | X6: 印刷会社 | AB6: 納品・広告内容に関わる連絡事項
D7: =表紙!J25 -> 0 | G7: =SUM(O7,R7) -> 0 | O7: =SUM(G11:G15,G20:G33,P11:P25,Y11:Y16) -> 0 | R7: =SUM(AH13:AH14,AH20:AH26) -> 0 | V7: =COUNTIF(AH13:AH14,">0")+COUNTIF(AH20:AH26,">0") -> 0 | X7: =表紙!D9 -> 0 | AB7: =表紙!D10 -> 0 | AK7: 変更履歴へ
A9: ▼留萌方面（E地区） | J9: ▼稚内方面（E地区） | S9: ▼枝幸方面（E地区） | AB9: ▼天売・焼尻島
A10: 市町村名 | C10: コード | E10: 店名 | F10: 定数 | G10: 折込枚数 | J10: 市町村名 | L10: コード | N10: 店名 | O10: 定数 | P10: 折込枚数 | S10: 市町村名 | U10: コード | W10: 店名 | X10: 定数 | Y10: 折込枚数 | AB10: 離島
A11: 留萌市 | C11: 16540 | E11: 留萌西 | F11: （廃店 留萌へ統合） | J11: 稚内市 | L11: 30160 | N11: 曲淵 | O11: 20 | Q11: 01214201001 | S11: 浜頓別町 | U11: 30090 | W11: 浜頓別 | X11: 680 | Z11: 01512201002
C12: 16550 | E12: 留萌 | F12: 3340 | H12: 01212201002 | L12: 30170 | N12: 沼川 | O12: 55 | Q12: 01214201002 | S12: 中頓別町 | U12: 30045 | W12: 小頓別 | X12: （廃店 中頓別へ統合） | Z12: 01513201003 | AB12: 市町村名 | AD12: コード | AF12: 店名 | AG12: 定数 | AH12: 折込枚数
A13: 増毛町 | C13: 16560 | E13: 増毛 | F13: 815 | H13: 01481201001 | L13: 30180 | N13: 恵北 | O13: 30 | Q13: 01214201003 | U13: 30070 | W13: 中頓別 | X13: 315 | Z13: 01513201001 | AB13: 羽幌町 | AD13: 16670 | AF13: 天売 | AG13: 40 | AI13: 01484201003
A14: 小平町 | C14: 16610 | E14: 小平 | F14: （廃店 留萌へ統合） | H14: 01482201002 | L14: 30195 | N14: 富磯 | O14: 30 | Q14: 01214201012 | S14: 枝幸町 | U14: 30100 | W14: 枝幸 | X14: 1105 | Z14: 01514201003 | AD14: 16660 | AF14: 焼尻 | AG14: 55 | AI14: 01484201002
C15: 16620 | E15: 鬼鹿 | F15: 205 | H15: 01482201003 | L15: 30200 | N15: 宗谷 | O15: （廃店 稚内北へ統合） | U15: 30010 | W15: 歌登 | X15: 345 | Z15: 01514201001
L16: 30202 | N16: 第二清浜 | O16: 15 | Q16: 01214201007 | U16: 30030 | W16: 志美宇丹 | X16: （廃店 歌登へ統合） | Z16: 01514201002 | AB16: ▼利尻・礼文島
L17: 30210 | N17: 宗谷岬 | O17: 95 | Q17: 01214201008 | AB17: 離島
A18: ▼羽幌・天塩方面（E地区） | L18: 30220 | N18: 稚内東 | O18: 1415 | Q18: 01214201009
A19: 市町村名 | C19: コード | E19: 店名 | F19: 定数 | G19: 折込枚数 | L19: 30240 | N19: 稚内 | O19: 2160 | Q19: 01214201010 | AB19: 市町村名 | AD19: コード | AF19: 店名 | AG19: 定数 | AH19: 折込枚数
A20: 苫前町 | C20: 16625 | E20: 力昼支店 | F20: （廃店 鬼鹿へ統合） | H20: 01483201001 | L20: 30250 | N20: 勇知 | O20: 25 | Q20: 01214201011 | AB20: 利尻富士 町 | AD20: 30270 | AF20: 鴛泊 | AG20: （廃店 鬼脇へ統合） | AI20: 01519201001
C21: 16630 | E21: 古丹別 | F21: 420 | H21: 01483201002 | J21: 猿払村 | L21: 30110 | N21: 浅茅野 | O21: 15 | Q21: 01511201001 | AD21: 30280 | AF21: 鬼脇 | AG21: 55 | AI21: 01519201002
C22: 16640 | E22: 苫前 | F22: 310 | H22: 01483201003 | L22: 30120 | N22: 猿払 | O22: 55 | Q22: 01511201002 | AB22: 利尻町 | AD22: 30290 | AF22: 仙法志 | AG22: （廃店 鬼脇へ統合） | AI22: 01518201001
A23: 羽幌町 | C23: 16650 | E23: 羽幌 | F23: 1565 | H23: 01484201001 | L23: 30130 | N23: 鬼志別 | O23: 195 | Q23: 01511201003 | AD23: 30300 | AF23: 沓形 | AG23: 130 | AI23: 01518201002
A24: 初山別村 | C24: 16680 | E24: 天塩有明 | F24: （廃店 羽幌へ統合） | H24: 01485201001 | L24: 30131 | N24: 浜鬼志別 | O24: 80 | Q24: 01511201004 | AB24: 礼文町 | AD24: 30310 | AF24: 香深 | AG24: 165 | AI24: 01517201001
C25: 16690 | E25: 初山別 | F25: 140 | H25: 01485201002 | L25: 30140 | N25: 知来別 | O25: 65 | Q25: 01511201005 | AD25: 30320 | AF25: 香深西 | AG25: （廃店 香深へ統合） | AI25: 01517201002
C26: 16700 | E26: 豊岬 | F26: 100 | H26: 01485201003 | AD26: 30330 | AF26: 船泊 | AG26: （廃店 香深へ統合） | AI26: 01517201003
A27: 遠別町 | C27: 30430 | E27: 遠別 | F27: 520 | H27: 01486201001
A28: 天塩町 | C28: 30400 | E28: 雄信内 | F28: 70 | H28: 01487201001
C29: 30410 | E29: 天塩 | F29: 610 | H29: 01487201002
A30: 幌延町 | C30: 30340 | E30: 問寒別 | F30: 60 | H30: 01488201001
C31: 30350 | E31: 幌延 | F31: 395 | H31: 01488201002
A32: 豊富町 | C32: 30370 | E32: 豊富 | F32: 535 | H32: 01516201001
C33: 30390 | E33: 兜沼 | F33: 55 | H33: 01516201002
A41: ◆ | B41: 市町村名 | E41: の地域の販売所へのお申込は「折込日4日前午前中」が締切です。それ以外の販売所は「折込日3日前午前中」が締切となります。（いずれも日・祝除く） | Q41: に販売所への折込申込は「折込日3日前午前中が締切です。(いずれも日祝除く）
A42: ただし申込締切日が土曜日にあたる場合、1営業日前日の午前中に繰り上がります。
A43: ◆市町村表記は販売所の所在地によるものです。店名と配達エリアの行政界は必ずしも一致しない場合があります。 | AF43: Ｅ地区定数計 | AH43: =SUM(F11:F15,F20:F33,O11:O25,X11:X16) -> 15840
A44: ◆悪天候、災害、事故等、やむを得ない事由により折込遅延・不能となる場合があります。予めご了承ください。 | AF44: 離島定数計 | AH44: =SUM(AG13:AG14,AG20:AG26) -> 445
A45: ◆店名に※印を付した販売所は、エリアの一部（遠隔地）で日曜・祝日折込分を翌日朝刊と同配いたします。 | AF45: 合 計 | AH45: =SUM(AH43:AH44) -> 16285
A46: ◆店名に（複）と付した販売所は、定数に朝日新聞・毎日新聞・読売新聞・日経新聞の枚数を含む複合店です。該当銘柄は販売所によって異なります。なお銘柄指定はできませんので予めご了承ください。

Sheet 9.北見・網走・紋別地区
A2: 9 | C2: 北見・網走・紋別地区 | J2: 46174 | O2: 北海道新聞折込広告申込書 | Y2: ㈱道新サービスセンター | AH2: －
H3: 201
A4: 伝票Ｎｏ. | D4: 折込日 | G4: 広告主名／件名（タイトル・売出し日など） | U4: 広告主業種 | X4: サイズ | AA4: コード | AD4: 代理店名 | AH4: 担当者
D5: =表紙!E5 | G5: =表紙!D6 -> 0 | U5: =表紙!D7 -> 0 | X5: =表紙!D8 -> 0 | AA5: =表紙!K4 -> 0 | AD5: =表紙!L4 -> 0 | AH5: =表紙!P4 -> 0 | AK5: 表紙へ戻る
A6: 搬入区分 | D6: 総枚数 | G6: ページ小計 | O6: E地区枚数 | X6: 印刷会社 | AB6: 納品・広告内容に関わる連絡事項
D7: =表紙!J25 -> 0 | G7: =O7 -> 0 | O7: =SUM(G11:G22,P11:P28,Y11:Y18,AH11:AH24) -> 0 | X7: =表紙!D9 -> 0 | AB7: =表紙!D10 -> 0 | AK7: 変更履歴へ
A9: ▼北見方面（E地区） | J9: ▼網走・美幌・斜里方面（E地区） | S9: ▼遠軽方面（E地区） | AB9: ▼紋別方面（E地区）
A10: 市町村名 | C10: コード | E10: 店名 | F10: 定数 | G10: 折込枚数 | J10: 市町村名 | L10: コード | N10: 店名 | O10: 定数 | P10: 折込枚数 | S10: 市町村名 | U10: コード | W10: 店名 | X10: 定数 | Y10: 折込枚数 | AB10: 市町村名 | AD10: コード | AF10: 店名 | AG10: 定数 | AH10: 折込枚数
A11: 北見市 | C11: 19020 | E11: 留辺蘂 | F11: 850 | H11: 01208201001 | J11: 佐呂間町 | L11: 19160 | N11: 若佐 | O11: 175 | Q11: 01552201001 | S11: 遠軽町 | U11: 31260 | W11: 白滝 | X11: 165 | Z11: 01555201005 | AB11: 雄武町 | AD11: 31110 | AF11: 沢木 | AG11: （廃店 雄武へ統合） | AI11: 01563201001
C12: 19030 | E12: 瑞穂 | F12: 25 | H12: 01208201002 | L12: 19170 | N12: 栄 | O12: 65 | Q12: 01552201002 | U12: 31010 | W12: 丸瀬布 | X12: 350 | Z12: 01555201001 | AD12: 31120 | AF12: 雄武 | AG12: 895 | AI12: 01563201002
C13: 19040 | E13: 温根湯 | F13: 235 | H13: 01208201003 | L13: 19180 | N13: 浜佐呂間 | O13: 140 | Q13: 01552201003 | U13: 31030 | W13: 遠軽 | X13: 3470 | Z13: 01555201002 | AD13: 31130 | AF13: 幌内 | AG13: 65 | AI13: 01563201003
C14: 19060 | E14: 北見東 | F14: 3040 | H14: 01208201005 | L14: 19190 | N14: 佐呂間 | O14: 865 | Q14: 01552201004 | U14: 31040 | W14: 安国 | X14: 135 | Z14: 01555201003 | AB14: 西興部村 | AD14: 31060 | AF14: 上興部 | AG14: 55 | AI14: 01562201001
